{"text_format":"3","workbook":"xlsx","n_sheets":7,"sheets":["Instructions","Start","Customer1","Customer2","End","Prices","TOTAL"],"not_rendered":{"images":2,"macros":1,"defined_names":1},"read":"whole","date_system":"1900"}

{"sheet":"Instructions","index":0,"n_rows":8,"n_cols":1,"rows_kept":8,"merged":[[2,0,2,8],[3,0,3,8],[4,0,4,8],[5,0,6,8],[7,0,7,8]]}
["Scout Instructions"]
[]
["1. Enter in ONE customer's order on one sheet (e.g. Your first customer on \"Customer1\" sheet your second customer on \"Customer2\" sheet). The Customer sheets will be renamed when you save. You can add Customer Sheets as need. Please ensure they are placed between \"Start\" and \"End\".                                                                                                                                        Please ensure you enable macros when opening this file!!!                                                           If you have any questions feel free to email santhi.peeler@gmail.com"]
["2. Please make sure that the money you have received from your customers matches the Grand Total at the bottom of the TOTAL sheet."]
["3. When your totals match, please save the file and email a copy back to Santhi.peeler@gmail.com no later than April 12th."]
["4. Customers can make electronic payment via Zelle or Quick Pay to Treasurer@3firestroop101.org.  Inform them that the payment will be identified as \"BSA Troop 101 registered with Community Christian Church.\"  If customers wish to pay by check to the troop, make it payable to \"BSA Troop 101.\"  Cash and checks will need to be dropped off to Mrs. Cross by appointment.\n "]
[]
["Please note:  The TOTAL Sheet cannot be edited. "]

{"sheet":"Start","index":1,"n_rows":0,"n_cols":0,"rows_kept":0}

{"sheet":"Customer1","index":2,"n_rows":117,"n_cols":10,"rows_kept":117,"merged":[[0,0,2,6],[3,0,3,1],[3,3,3,6],[4,0,4,1],[4,3,4,6],[5,0,5,1],[5,3,5,6],[6,0,6,1],[6,3,6,6],[7,0,8,6],[9,0,9,1],[9,2,9,6],[46,2,46,3],[48,1,48,7],[49,1,50,6],[57,0,57,5],[58,0,58,1],[58,2,58,5],[114,2,114,3],[115,2,115,3],[116,2,116,3]]}
["BSA Troop 101: Annual Mother's Day Plant & Flower Sale -  Individual Order Form (pg 1 of 2)"]
[]
[]
["Customer Name",null," Phone Number "]
[]
["Address",null,"City"]
[]
["Directions:  Please complete the order form below and return it to your boy scout by April 12th with your payment.  Flowers and plants will be available on May 8.  Thank you very much! *"]
[]
["BSA Troop 101 Scout Name: "]
["#","Plant Name & Description","Type","Unit $","Qty","Total"]
[]
[1,"Combination Basket","12\" Comb Basket (plastic)",{"$f":"Prices!D15","v":{"v":26,"d":"26.00"}},null,{"$f":"D13*E13","v":{"v":0,"d":"$0.00"}}]
[2,"Begonia - non-stop red (shade plant)","10\" Basket (plastic)",{"$f":"Prices!D16","v":18.65},null,{"v":0,"d":"$0.00"}]
[3,"Fuchsia (pink and purple - shade plant)","10\" Basket (plastic)",{"$f":"Prices!D17","v":18.65},null,{"v":0,"d":"$0.00"}]
[4,"Geranium (ivy) - red","10\" Basket (plastic)",{"$f":"Prices!D18","v":18.65},null,{"v":0,"d":"$0.00"}]
[5,"Geranium (ivy) - pink","10\" Basket (plastic)",{"$f":"Prices!D19","v":18.65},null,{"v":0,"d":"$0.00"}]
[6,"Geranium (ivy) - lavendar ","10\" Basket (plastic)",{"$f":"Prices!D20","v":18.65},null,{"v":0,"d":"$0.00"},null,null," "]
[7,"Petunia - red","10\" Basket (plastic)",{"$f":"Prices!D21","v":18.65},null,{"v":0,"d":"$0.00"}]
[8,"Petunia - pink","10\" Basket (plastic)",{"$f":"Prices!D22","v":18.65},null,{"v":0,"d":"$0.00"}]
[9,"Impatiens - pink (shade plant)","10\" Basket (plastic)",{"$f":"Prices!D23","v":18.65},null,{"v":0,"d":"$0.00"}]
[10,"Impatiens - red (shade plant)","10\" Basket (plastic)",{"$f":"Prices!D24","v":18.65},null,{"v":0,"d":"$0.00"}]
[11,"Impatiens - purple (shade plant)","10\" Basket (plastic)",{"$f":"Prices!D25","v":18.65},null,{"v":0,"d":"$0.00"},{"$nulls":3}," "]
[12,"Impatiens (New Guinea) - pink","10\" Basket (plastic)",{"$f":"Prices!D26","v":18.65},null,{"v":0,"d":"$0.00"}]
[13,"Impatiens (New Guinea) - red","10\" Basket (plastic)",{"$f":"Prices!D27","v":18.65},null,{"v":0,"d":"$0.00"}]
[14,"Cucumber","4 plants",{"$f":"Prices!D34","v":{"v":1.6,"d":"1.60"}},null,{"v":0,"d":"$0.00"}]
[15,"Green Bell Pepper ","4 plants",{"$f":"Prices!D35","v":{"v":1.6,"d":"1.60"}},null,{"v":0,"d":"$0.00"}]
[16,"Zucchini","4 plants",{"$f":"Prices!D36","v":{"v":1.6,"d":"1.60"}},null,{"v":0,"d":"$0.00"}]
[17,"Tomato - Burpee Big Boy","4 plants",{"$f":"Prices!D37","v":{"v":1.6,"d":"1.60"}},null,{"v":0,"d":"$0.00"}]
[18,"Tomato - Cherry","4 plants",{"$f":"Prices!D38","v":{"v":1.6,"d":"1.60"}},null,{"v":0,"d":"$0.00"}]
[19,"Tomato - Early Girl","4 plants",{"$f":"Prices!D39","v":{"v":1.6,"d":"1.60"}},null,{"v":0,"d":"$0.00"}]
[20,"Asparagus Fern","4\" potted plants",{"$f":"Prices!D40","v":{"v":3.1,"d":"3.10"}},null,{"v":0,"d":"$0.00"}]
[21,"Dracaena Spike","4\" potted plants",{"$f":"Prices!D41","v":{"v":3.1,"d":"3.10"}},null,{"v":0,"d":"$0.00"}]
[22,"Geranium - red","4\" potted plants",{"$f":"Prices!D42","v":{"v":3.1,"d":"3.10"}},null,{"v":0,"d":"$0.00"}]
[23,"Geranium - white","4\" potted plants",{"$f":"Prices!D43","v":{"v":3.1,"d":"3.10"}},null,{"v":0,"d":"$0.00"}]
[24,"Geranium - pink","4\" potted plants",{"$f":"Prices!D44","v":{"v":3.1,"d":"3.10"}},null,{"v":0,"d":"$0.00"}]
[25,"Vinca Vine","4\" potted plants",{"$f":"Prices!D45","v":{"v":3.1,"d":"3.10"}},null,{"v":0,"d":"$0.00"}]
[26,"Bacopa","4 1/2\" potted plants",{"$f":"Prices!D46","v":{"v":5.1,"d":"5.10"}},null,{"v":0,"d":"$0.00"}]
[27,"Begonia - non-stop red (shade plant)","4 1/2\" potted plants",{"$f":"Prices!D47","v":{"v":5.1,"d":"5.10"}},null,{"v":0,"d":"$0.00"}]
[28,"Gerber Daisy","4 1/2\" potted plants",{"$f":"Prices!D48","v":{"v":5.1,"d":"5.10"}},null,{"v":0,"d":"$0.00"}]
[29,"Impatiens, Double Rosebud - red","4 1/2\" potted plants",{"$f":"Prices!D49","v":{"v":5.1,"d":"5.10"}},null,{"v":0,"d":"$0.00"}]
[30,"Impatiens, Double Rosebud - pink","4 1/2\" potted plants",{"$f":"Prices!D50","v":{"v":5.1,"d":"5.10"}},null,{"v":0,"d":"$0.00"}]
[31,"Impatiens, Double Rosebud - violet","4 1/2\" potted plants",{"$f":"Prices!D51","v":{"v":5.1,"d":"5.10"}},null,{"v":0,"d":"$0.00"}]
[32,"Lantana","4 1/2\" potted plants",{"$f":"Prices!D52","v":{"v":5.1,"d":"5.10"}},null,{"v":0,"d":"$0.00"}]
[33,"Sweet Potato Vine","4 1/2\" potted plants",{"$f":"Prices!D53","v":{"v":5.1,"d":"5.10"}},null,{"v":0,"d":"$0.00"}]
[34,"Verbena - purple","4 1/2\" potted plants",{"$f":"Prices!D54","v":{"v":5.1,"d":"5.10"}},null,{"v":0,"d":"$0.00"}]
[null,null,"Total (this page)",null,{"$f":"SUM(E12:E46)","v":0},{"$f":"SUM(F12:F46)","v":{"v":0,"d":"$0.00"}}]
[]
[]
[null,"* A special thanks goes out to Tom Tuch and Home Landscape Supply in Bolingbrook for their support!!  To view the flower and plant catalog, visit the Troop 101 Website at:"]
[]
[null,"www.3firestroop101.org"]
[]
[]
[]
[]
[]
["Order Form - Continued (page 2 of 2)"]
[{"$f":"CONCATENATE(\"Scout name: \",C10)","v":"Scout name: "},null,{"$f":"CONCATENATE(\"Customer: \",A5)","v":"Customer: "}]
["#","Plant Name & Description","Type","Unit $","Qty","Total"]
[35,"Astilbe - pink","1 Gal. Perennials",{"$f":"Prices!D69","v":{"v":11,"d":"11.00"}},null,{"$f":"D61*E61","v":{"v":0,"d":"$0.00"}}]
[36,"Astilbe - red","1 Gal. Perennials",{"$f":"Prices!D70","v":{"v":11,"d":"11.00"}},null,{"v":0,"d":"$0.00"}]
[37,"Astilbe - white","1 Gal. Perennials",{"$f":"Prices!D71","v":{"v":11,"d":"11.00"}},null,{"v":0,"d":"$0.00"}]
[38,"Aster","1 Gal. Perennials",{"$f":"Prices!D72","v":{"v":11,"d":"11.00"}},null,{"v":0,"d":"$0.00"}]
[39,"Bee Balm","1 Gal. Perennials",{"$f":"Prices!D73","v":{"v":11,"d":"11.00"}},null,{"v":0,"d":"$0.00"}]
[40,"Bleeding Heart - pink (shade plant)","1 Gal. Perennials",{"$f":"Prices!D74","v":{"v":10,"d":"10.00"}},null,{"v":0,"d":"$0.00"}]
[41,"Blue Salvia","1 Gal. Perennials",{"$f":"Prices!D75","v":{"v":11,"d":"11.00"}},null,{"v":0,"d":"$0.00"}]
[42,"Catmint","1 Gal. Perennials",{"$f":"Prices!D76","v":{"v":11,"d":"11.00"}},null,{"v":0,"d":"$0.00"}]
[43,"Columbine","1 Gal. Perennials",{"$f":"Prices!D77","v":{"v":11,"d":"11.00"}},null,{"v":0,"d":"$0.00"},null," "," "]
[44,"Cone Flower (purple)","1 Gal. Perennials",{"$f":"Prices!D78","v":{"v":11,"d":"11.00"}},null,{"v":0,"d":"$0.00"}]
[45,"Coral Bells (Purple Palace)","1 Gal. Perennials",{"$f":"Prices!D79","v":{"v":11,"d":"11.00"}},null,{"v":0,"d":"$0.00"}]
[46,"Creeping Phlox - blue","1 Quart Perennials",{"$f":"Prices!D80","v":{"v":6.8,"d":"6.80"}},null,{"v":0,"d":"$0.00"}]
[47,"Creeping Phlox - pink","1 Quart Perennials",{"$f":"Prices!D81","v":{"v":6.8,"d":"6.80"}},null,{"v":0,"d":"$0.00"}]
[48,"Hosta - variegated (shade plant)","2 Quart Perennials",{"$f":"Prices!D82","v":{"v":10,"d":"10.00"}},null,{"v":0,"d":"$0.00"}]
[49,"Lily of the Valley","1 Quart Perennials",{"$f":"Prices!D83","v":{"v":6.8,"d":"6.80"}},null,{"v":0,"d":"$0.00"}]
[50,"Karl Forester","1 Gal. Perennial Grass",{"$f":"Prices!D84","v":{"v":11,"d":"11.00"}},null,{"v":0,"d":"$0.00"}]
[51,"Alyssum - white","Half Flat (24 plants)",{"$f":"Prices!D85","v":{"v":8.3,"d":"8.30"}},null,{"v":0,"d":"$0.00"}]
[52,"Begonia - mixed (shade plant)","Half Flat (24 plants)",{"$f":"Prices!D86","v":{"v":8.3,"d":"8.30"}},null,{"v":0,"d":"$0.00"}]
[53,"Coleus - mixed","Half Flat (24 plants)",{"$f":"Prices!D87","v":{"v":8.3,"d":"8.30"}},null,{"v":0,"d":"$0.00"}]
[54,"Impatiens - mixed (shade plant)","Half Flat (24 plants)",{"$f":"Prices!D88","v":{"v":8.3,"d":"8.30"}},null,{"v":0,"d":"$0.00"}]
[55,"Marigold - med mixed","Half Flat (24 plants)",{"$f":"Prices!D89","v":{"v":8.3,"d":"8.30"}},null,{"v":0,"d":"$0.00"}]
[56,"Moss Roses","Half Flat (24 plants)",{"$f":"Prices!D90","v":{"v":8.3,"d":"8.30"}},null,{"v":0,"d":"$0.00"}]
[57,"Pansy - mixed","Half Flat (24 plants)",{"$f":"Prices!D91","v":{"v":8.3,"d":"8.30"}},null,{"v":0,"d":"$0.00"}]
[58,"Petunia - mixed","Half Flat (24 plants)",{"$f":"Prices!D92","v":{"v":8.3,"d":"8.30"}},null,{"v":0,"d":"$0.00"}]
[59,"Snap Dragon - mixed","Half Flat (24 plants)",{"$f":"Prices!D93","v":{"v":8.3,"d":"8.30"}},null,{"v":0,"d":"$0.00"}]
[60,"Vinca - pink","Half Flat (24 plants)",{"$f":"Prices!D94","v":{"v":8.3,"d":"8.30"}},null,{"v":0,"d":"$0.00"}]
[61,"Vinca - purple","Half Flat (24 plants)",{"$f":"Prices!D95","v":{"v":8.3,"d":"8.30"}},null,{"v":0,"d":"$0.00"}]
[62,"Zinnia - tall ","Half Flat (24 plants)",{"$f":"Prices!D96","v":{"v":8.3,"d":"8.30"}},null,{"v":0,"d":"$0.00"}]
[63,"Alyssum - white","Whole Flat (48 plants)",{"$f":"Prices!D97","v":{"v":16.6,"d":"16.60"}},null,{"$f":"D89*E89","v":{"v":0,"d":"$0.00"}}]
[64,"Begonia - mixed (shade plant)","Whole Flat (48 plants)",{"$f":"Prices!D98","v":{"v":16.6,"d":"16.60"}},null,{"v":0,"d":"$0.00"}]
[65,"Coleus - mixed","Whole Flat (48 plants)",{"$f":"Prices!D99","v":{"v":16.6,"d":"16.60"}},null,{"v":0,"d":"$0.00"}]
[66,"Impatiens - mixed (shade plant)","Whole Flat (48 plants)",{"$f":"Prices!D100","v":{"v":16.6,"d":"16.60"}},null,{"v":0,"d":"$0.00"}]
[67,"Marigold - med mixed","Whole Flat (48 plants)",{"$f":"Prices!D101","v":{"v":16.6,"d":"16.60"}},null,{"v":0,"d":"$0.00"}]
[68,"Moss Roses","Whole Flat (48 plants)",{"$f":"Prices!D102","v":{"v":16.6,"d":"16.60"}},null,{"v":0,"d":"$0.00"}]
[69,"Pansy - mixed","Whole Flat (48 plants)",{"$f":"Prices!D97","v":{"v":16.6,"d":"16.60"}},null,{"v":0,"d":"$0.00"}]
[70,"Petunia - mixed","Whole Flat (48 plants)",{"$f":"Prices!D98","v":{"v":16.6,"d":"16.60"}},null,{"v":0,"d":"$0.00"}]
[71,"Snap Dragon - mixed","Whole Flat (48 plants)",{"$f":"Prices!D99","v":{"v":16.6,"d":"16.60"}},null,{"v":0,"d":"$0.00"}]
[72,"Vinca - pink","Whole Flat (48 plants)",{"$f":"Prices!D100","v":{"v":16.6,"d":"16.60"}},null,{"v":0,"d":"$0.00"}]
[73,"Vinca - purple","Whole Flat (48 plants)",{"$f":"Prices!D101","v":{"v":16.6,"d":"16.60"}},null,{"v":0,"d":"$0.00"}]
[74,"Zinnia - tall ","Whole Flat (48 plants)",{"$f":"Prices!D102","v":{"v":16.6,"d":"16.60"}},null,{"v":0,"d":"$0.00"}]
[75,"Geranium, Max Frei","1 Gal. Perennials",{"$f":"Prices!D109","v":{"v":11,"d":"11.00"}},null,{"$f":"D101*E101","v":{"v":0,"d":"$0.00"}}]
[76,"Dianthus, Firewitch","1 Gal. Perennials",{"$f":"Prices!D110","v":{"v":11,"d":"11.00"}},null,{"$f":"D102*E102","v":{"v":0,"d":"$0.00"}}]
[77,"Shasta Daisy","1 Gal. Perennials",{"$f":"Prices!D111","v":{"v":11,"d":"11.00"}},null,{"$f":"D103*E103","v":{"v":0,"d":"$0.00"}}]
[78,"Stella De Ora Daylilly","1 Gal. Perennials",{"$f":"Prices!D112","v":{"v":11,"d":"11.00"}},null,{"$f":"D104*E104","v":{"v":0,"d":"$0.00"}}]
[79,"Pardon me Daylilly","1 Gal. Perennials",{"$f":"Prices!D113","v":{"v":11,"d":"11.00"}},null,{"v":0,"d":"$0.00"}]
[80,"Black-eyed Susan","1 Gal. Perennials",{"$f":"Prices!D114","v":{"v":11,"d":"11.00"}},null,{"v":0,"d":"$0.00"}]
[81,"Russian Sage","1 Gal. Perennials",{"$f":"Prices!D115","v":{"v":11,"d":"11.00"}},null,{"v":0,"d":"$0.00"}]
[82,"Autumn Joy Sedum","1 Gal. Perennials",{"$f":"Prices!D116","v":{"v":11,"d":"11.00"}},null,{"v":0,"d":"$0.00"}]
[83,"Coral Bell (Caramel)","1 Gal. Perennials",{"$f":"Prices!D117","v":{"v":14,"d":"14.00"}},null,{"v":0,"d":"$0.00"}]
[84,"Fern Ostrich","1 Gal. Perennials",{"$f":"Prices!D118","v":{"v":14,"d":"14.00"}},null,{"v":0,"d":"$0.00"}]
[85,"Japanese Painted Fern","1 Gal. Perennials",{"$f":"Prices!D119","v":{"v":14,"d":"14.00"}},null,{"v":0,"d":"$0.00"}]
[86,"Hosta Patriot","1 Gal. Perennials",{"$f":"Prices!D120","v":{"v":11,"d":"11.00"}},null,{"v":0,"d":"$0.00"}]
[87,"Hosta Elegans","1 Gal. Perennials",{"$f":"Prices!D121","v":{"v":11,"d":"11.00"}},null,{"v":0,"d":"$0.00"}]
[88,"Hosta Guacamole","1 Gal. Perennials",{"$f":"Prices!D122","v":{"v":14,"d":"14.00"}},null,{"v":0,"d":"$0.00"}]
[null,null,"Total (for this page)",null,{"$f":"SUM(E61:E114)","v":0},{"$f":"SUM(F61:F114)","v":{"v":0,"d":"$0.00"}}]
[null,null,"Total (from previous page)",null,{"$f":"E47","v":0},{"$f":"F47","v":{"v":0,"d":"$0.00"}}]
[null,null,"Grand Total",null,{"$f":"E115+E116","v":0},{"$f":"F115+F116","v":{"v":0,"d":"$0.00"}}]

{"sheet":"Customer2","index":3,"n_rows":117,"n_cols":10,"rows_kept":117,"merged":[[0,0,2,6],[3,0,3,1],[3,3,3,6],[4,0,4,1],[4,3,4,6],[5,0,5,1],[5,3,5,6],[6,0,6,1],[6,3,6,6],[7,0,8,6],[9,0,9,1],[9,2,9,6],[46,2,46,3],[48,1,48,7],[49,1,50,6],[57,0,57,5],[58,0,58,1],[58,2,58,5],[114,2,114,3],[115,2,115,3],[116,2,116,3]]}
["BSA Troop 101: Annual Mother's Day Plant & Flower Sale -  Individual Order Form (pg 1 of 2)"]
[]
[]
["Customer Name",null," Phone Number "]
[]
["Address",null,"City"]
[]
["Directions:  Please complete the order form below and return it to your boy scout by April 12 with your payment.   Flowers and plants will be available on May 8th.  Thank you very much! *"]
[]
["BSA Troop 101 Scout Name: "]
["#","Plant Name & Description","Type","Unit $","Qty","Total"]
[]
[1,"Combination Basket","12\" Comb Basket (plastic)",{"$f":"Prices!D15","v":{"v":26,"d":"26.00"}},null,{"$f":"D13*E13","v":{"v":0,"d":"$0.00"}}]
[2,"Begonia - non-stop red (shade plant)","10\" Basket (plastic)",{"$f":"Prices!D16","v":18.65},null,{"v":0,"d":"$0.00"}]
[3,"Fuchsia (pink and purple - shade plant)","10\" Basket (plastic)",{"$f":"Prices!D17","v":18.65},null,{"v":0,"d":"$0.00"}]
[4,"Geranium (ivy) - red","10\" Basket (plastic)",{"$f":"Prices!D18","v":18.65},null,{"v":0,"d":"$0.00"}]
[5,"Geranium (ivy) - pink","10\" Basket (plastic)",{"$f":"Prices!D19","v":18.65},null,{"v":0,"d":"$0.00"}]
[6,"Geranium (ivy) - lavendar ","10\" Basket (plastic)",{"$f":"Prices!D20","v":18.65},null,{"v":0,"d":"$0.00"},null,null," "]
[7,"Petunia - red","10\" Basket (plastic)",{"$f":"Prices!D21","v":18.65},null,{"v":0,"d":"$0.00"}]
[8,"Petunia - pink","10\" Basket (plastic)",{"$f":"Prices!D22","v":18.65},null,{"v":0,"d":"$0.00"}]
[9,"Impatiens - pink (shade plant)","10\" Basket (plastic)",{"$f":"Prices!D23","v":18.65},null,{"v":0,"d":"$0.00"}]
[10,"Impatiens - red (shade plant)","10\" Basket (plastic)",{"$f":"Prices!D24","v":18.65},null,{"v":0,"d":"$0.00"}]
[11,"Impatiens - purple (shade plant)","10\" Basket (plastic)",{"$f":"Prices!D25","v":18.65},null,{"v":0,"d":"$0.00"},{"$nulls":3}," "]
[12,"Impatiens (New Guinea) - pink","10\" Basket (plastic)",{"$f":"Prices!D26","v":18.65},null,{"v":0,"d":"$0.00"}]
[13,"Impatiens (New Guinea) - red","10\" Basket (plastic)",{"$f":"Prices!D27","v":18.65},null,{"v":0,"d":"$0.00"}]
[14,"Cucumber","4 plants",{"$f":"Prices!D34","v":{"v":1.6,"d":"1.60"}},null,{"v":0,"d":"$0.00"}]
[15,"Green Bell Pepper ","4 plants",{"$f":"Prices!D35","v":{"v":1.6,"d":"1.60"}},null,{"v":0,"d":"$0.00"}]
[16,"Zucchini","4 plants",{"$f":"Prices!D36","v":{"v":1.6,"d":"1.60"}},null,{"v":0,"d":"$0.00"}]
[17,"Tomato - Burpee Big Boy","4 plants",{"$f":"Prices!D37","v":{"v":1.6,"d":"1.60"}},null,{"v":0,"d":"$0.00"}]
[18,"Tomato - Cherry","4 plants",{"$f":"Prices!D38","v":{"v":1.6,"d":"1.60"}},null,{"v":0,"d":"$0.00"}]
[19,"Tomato - Early Girl","4 plants",{"$f":"Prices!D39","v":{"v":1.6,"d":"1.60"}},null,{"v":0,"d":"$0.00"}]
[20,"Asparagus Fern","4\" potted plants",{"$f":"Prices!D40","v":{"v":3.1,"d":"3.10"}},null,{"v":0,"d":"$0.00"}]
[21,"Dracaena Spike","4\" potted plants",{"$f":"Prices!D41","v":{"v":3.1,"d":"3.10"}},null,{"v":0,"d":"$0.00"}]
[22,"Geranium - red","4\" potted plants",{"$f":"Prices!D42","v":{"v":3.1,"d":"3.10"}},null,{"v":0,"d":"$0.00"}]
[23,"Geranium - white","4\" potted plants",{"$f":"Prices!D43","v":{"v":3.1,"d":"3.10"}},null,{"v":0,"d":"$0.00"}]
[24,"Geranium - pink","4\" potted plants",{"$f":"Prices!D44","v":{"v":3.1,"d":"3.10"}},null,{"v":0,"d":"$0.00"}]
[25,"Vinca Vine","4\" potted plants",{"$f":"Prices!D45","v":{"v":3.1,"d":"3.10"}},null,{"v":0,"d":"$0.00"}]
[26,"Bacopa","4 1/2\" potted plants",{"$f":"Prices!D46","v":{"v":5.1,"d":"5.10"}},null,{"v":0,"d":"$0.00"}]
[27,"Begonia - non-stop red (shade plant)","4 1/2\" potted plants",{"$f":"Prices!D47","v":{"v":5.1,"d":"5.10"}},null,{"v":0,"d":"$0.00"}]
[28,"Gerber Daisy","4 1/2\" potted plants",{"$f":"Prices!D48","v":{"v":5.1,"d":"5.10"}},null,{"v":0,"d":"$0.00"}]
[29,"Impatiens, Double Rosebud - red","4 1/2\" potted plants",{"$f":"Prices!D49","v":{"v":5.1,"d":"5.10"}},null,{"v":0,"d":"$0.00"}]
[30,"Impatiens, Double Rosebud - pink","4 1/2\" potted plants",{"$f":"Prices!D50","v":{"v":5.1,"d":"5.10"}},null,{"v":0,"d":"$0.00"}]
[31,"Impatiens, Double Rosebud - violet","4 1/2\" potted plants",{"$f":"Prices!D51","v":{"v":5.1,"d":"5.10"}},null,{"v":0,"d":"$0.00"}]
[32,"Lantana","4 1/2\" potted plants",{"$f":"Prices!D52","v":{"v":5.1,"d":"5.10"}},null,{"v":0,"d":"$0.00"}]
[33,"Sweet Potato Vine","4 1/2\" potted plants",{"$f":"Prices!D53","v":{"v":5.1,"d":"5.10"}},null,{"v":0,"d":"$0.00"}]
[34,"Verbena - purple","4 1/2\" potted plants",{"$f":"Prices!D54","v":{"v":5.1,"d":"5.10"}},null,{"v":0,"d":"$0.00"}]
[null,null,"Total (this page)",null,{"$f":"SUM(E12:E46)","v":0},{"$f":"SUM(F12:F46)","v":{"v":0,"d":"$0.00"}}]
[]
[]
[null,"* A special thanks goes out to Tom Tuch and Home Landscape Supply in Bolingbrook for their support!!  To view the flower and plant catalog, visit the Troop 101 Website at:"]
[]
[null,"www.3firestroop101.org"]
[]
[]
[]
[]
[]
["Order Form - Continued (page 2 of 2)"]
[{"$f":"CONCATENATE(\"Scout name: \",C10)","v":"Scout name: "},null,{"$f":"CONCATENATE(\"Customer: \",A5)","v":"Customer: "}]
["#","Plant Name & Description","Type","Unit $","Qty","Total"]
[35,"Astilbe - pink","1 Gal. Perennials",{"$f":"Prices!D69","v":{"v":11,"d":"11.00"}},null,{"$f":"D61*E61","v":{"v":0,"d":"$0.00"}}]
[36,"Astilbe - red","1 Gal. Perennials",{"$f":"Prices!D70","v":{"v":11,"d":"11.00"}},null,{"v":0,"d":"$0.00"}]
[37,"Astilbe - white","1 Gal. Perennials",{"$f":"Prices!D71","v":{"v":11,"d":"11.00"}},null,{"v":0,"d":"$0.00"}]
[38,"Aster","1 Gal. Perennials",{"$f":"Prices!D72","v":{"v":11,"d":"11.00"}},null,{"v":0,"d":"$0.00"}]
[39,"Bee Balm","1 Gal. Perennials",{"$f":"Prices!D73","v":{"v":11,"d":"11.00"}},null,{"v":0,"d":"$0.00"}]
[40,"Bleeding Heart - pink (shade plant)","1 Gal. Perennials",{"$f":"Prices!D74","v":{"v":10,"d":"10.00"}},null,{"v":0,"d":"$0.00"}]
[41,"Blue Salvia","1 Gal. Perennials",{"$f":"Prices!D75","v":{"v":11,"d":"11.00"}},null,{"v":0,"d":"$0.00"}]
[42,"Catmint","1 Gal. Perennials",{"$f":"Prices!D76","v":{"v":11,"d":"11.00"}},null,{"v":0,"d":"$0.00"}]
[43,"Columbine","1 Gal. Perennials",{"$f":"Prices!D77","v":{"v":11,"d":"11.00"}},null,{"v":0,"d":"$0.00"},null," "," "]
[44,"Cone Flower (purple)","1 Gal. Perennials",{"$f":"Prices!D78","v":{"v":11,"d":"11.00"}},null,{"v":0,"d":"$0.00"}]
[45,"Coral Bells (Purple Palace)","1 Gal. Perennials",{"$f":"Prices!D79","v":{"v":11,"d":"11.00"}},null,{"v":0,"d":"$0.00"}]
[46,"Creeping Phlox - blue","1 Quart Perennials",{"$f":"Prices!D80","v":{"v":6.8,"d":"6.80"}},null,{"v":0,"d":"$0.00"}]
[47,"Creeping Phlox - pink","1 Quart Perennials",{"$f":"Prices!D81","v":{"v":6.8,"d":"6.80"}},null,{"v":0,"d":"$0.00"}]
[48,"Hosta - variegated (shade plant)","1 Quart Perennials",{"$f":"Prices!D82","v":{"v":10,"d":"10.00"}},null,{"v":0,"d":"$0.00"}]
[49,"Lily of the Valley","1 Quart Perennials",{"$f":"Prices!D83","v":{"v":6.8,"d":"6.80"}},null,{"v":0,"d":"$0.00"}]
[50,"Karl Forester","1 Gal. Perennial Grass",{"$f":"Prices!D84","v":{"v":11,"d":"11.00"}},null,{"v":0,"d":"$0.00"}]
[51,"Alyssum - white","Half Flat (24 plants)",{"$f":"Prices!D85","v":{"v":8.3,"d":"8.30"}},null,{"v":0,"d":"$0.00"}]
[52,"Begonia - mixed (shade plant)","Half Flat (24 plants)",{"$f":"Prices!D86","v":{"v":8.3,"d":"8.30"}},null,{"v":0,"d":"$0.00"}]
[53,"Coleus - mixed","Half Flat (24 plants)",{"$f":"Prices!D87","v":{"v":8.3,"d":"8.30"}},null,{"v":0,"d":"$0.00"}]
[54,"Impatiens - mixed (shade plant)","Half Flat (24 plants)",{"$f":"Prices!D88","v":{"v":8.3,"d":"8.30"}},null,{"v":0,"d":"$0.00"}]
[55,"Marigold - med mixed","Half Flat (24 plants)",{"$f":"Prices!D89","v":{"v":8.3,"d":"8.30"}},null,{"v":0,"d":"$0.00"}]
[56,"Moss Roses","Half Flat (24 plants)",{"$f":"Prices!D90","v":{"v":8.3,"d":"8.30"}},null,{"v":0,"d":"$0.00"}]
[57,"Pansy - mixed","Half Flat (24 plants)",{"$f":"Prices!D91","v":{"v":8.3,"d":"8.30"}},null,{"v":0,"d":"$0.00"}]
[58,"Petunia - mixed","Half Flat (24 plants)",{"$f":"Prices!D92","v":{"v":8.3,"d":"8.30"}},null,{"v":0,"d":"$0.00"}]
[59,"Snap Dragon - mixed","Half Flat (24 plants)",{"$f":"Prices!D93","v":{"v":8.3,"d":"8.30"}},null,{"v":0,"d":"$0.00"}]
[60,"Vinca - pink","Half Flat (24 plants)",{"$f":"Prices!D94","v":{"v":8.3,"d":"8.30"}},null,{"v":0,"d":"$0.00"}]
[61,"Vinca - purple","Half Flat (24 plants)",{"$f":"Prices!D95","v":{"v":8.3,"d":"8.30"}},null,{"v":0,"d":"$0.00"}]
[62,"Zinnia - tall ","Half Flat (24 plants)",{"$f":"Prices!D96","v":{"v":8.3,"d":"8.30"}},null,{"v":0,"d":"$0.00"}]
[63,"Alyssum - white","Whole Flat (48 plants)",{"$f":"Prices!D97","v":{"v":16.6,"d":"16.60"}},null,{"v":0,"d":"$0.00"}]
[64,"Begonia - mixed (shade plant)","Whole Flat (48 plants)",{"$f":"Prices!D98","v":{"v":16.6,"d":"16.60"}},null,{"v":0,"d":"$0.00"}]
[65,"Coleus - mixed","Whole Flat (48 plants)",{"$f":"Prices!D99","v":{"v":16.6,"d":"16.60"}},null,{"v":0,"d":"$0.00"}]
[66,"Impatiens - mixed (shade plant)","Whole Flat (48 plants)",{"$f":"Prices!D100","v":{"v":16.6,"d":"16.60"}},null,{"v":0,"d":"$0.00"}]
[67,"Marigold - med mixed","Whole Flat (48 plants)",{"$f":"Prices!D101","v":{"v":16.6,"d":"16.60"}},null,{"v":0,"d":"$0.00"}]
[68,"Moss Roses","Whole Flat (48 plants)",{"$f":"Prices!D102","v":{"v":16.6,"d":"16.60"}},null,{"v":0,"d":"$0.00"}]
[69,"Pansy - mixed","Whole Flat (48 plants)",{"$f":"Prices!D97","v":{"v":16.6,"d":"16.60"}},null,{"v":0,"d":"$0.00"}]
[70,"Petunia - mixed","Whole Flat (48 plants)",{"$f":"Prices!D98","v":{"v":16.6,"d":"16.60"}},null,{"v":0,"d":"$0.00"}]
[71,"Snap Dragon - mixed","Whole Flat (48 plants)",{"$f":"Prices!D99","v":{"v":16.6,"d":"16.60"}},null,{"v":0,"d":"$0.00"}]
[72,"Vinca - pink","Whole Flat (48 plants)",{"$f":"Prices!D100","v":{"v":16.6,"d":"16.60"}},null,{"v":0,"d":"$0.00"}]
[73,"Vinca - purple","Whole Flat (48 plants)",{"$f":"Prices!D101","v":{"v":16.6,"d":"16.60"}},null,{"v":0,"d":"$0.00"}]
[74,"Zinnia - tall ","Whole Flat (48 plants)",{"$f":"Prices!D102","v":{"v":16.6,"d":"16.60"}},null,{"v":0,"d":"$0.00"}]
[75,"Geranium, Max Frei","1 Gal. Perennials",{"$f":"Prices!D109","v":{"v":11,"d":"11.00"}},null,{"$f":"D101*E101","v":{"v":0,"d":"$0.00"}}]
[76,"Dianthus, Firewitch","1 Gal. Perennials",{"$f":"Prices!D110","v":{"v":11,"d":"11.00"}},null,{"$f":"D102*E102","v":{"v":0,"d":"$0.00"}}]
[77,"Shasta Daisy","1 Gal. Perennials",{"$f":"Prices!D111","v":{"v":11,"d":"11.00"}},null,{"$f":"D103*E103","v":{"v":0,"d":"$0.00"}}]
[78,"Stella De Ora Daylilly","1 Gal. Perennials",{"$f":"Prices!D112","v":{"v":11,"d":"11.00"}},null,{"$f":"D104*E104","v":{"v":0,"d":"$0.00"}}]
[79,"Pardon me Daylilly","1 Gal. Perennials",{"$f":"Prices!D113","v":{"v":11,"d":"11.00"}},null,{"v":0,"d":"$0.00"}]
[80,"Black-eyed Susan","1 Gal. Perennials",{"$f":"Prices!D114","v":{"v":11,"d":"11.00"}},null,{"v":0,"d":"$0.00"}]
[81,"Russian Sage","1 Gal. Perennials",{"$f":"Prices!D115","v":{"v":11,"d":"11.00"}},null,{"v":0,"d":"$0.00"}]
[82,"Autumn Joy Sedum","1 Gal. Perennials",{"$f":"Prices!D116","v":{"v":11,"d":"11.00"}},null,{"v":0,"d":"$0.00"}]
[83,"Coral Bell (Caramel)","1 Gal. Perennials",{"$f":"Prices!D117","v":{"v":14,"d":"14.00"}},null,{"v":0,"d":"$0.00"}]
[84,"Fern Ostrich","1 Gal. Perennials",{"$f":"Prices!D118","v":{"v":14,"d":"14.00"}},null,{"v":0,"d":"$0.00"}]
[85,"Japanese Painted Fern","1 Gal. Perennials",{"$f":"Prices!D119","v":{"v":14,"d":"14.00"}},null,{"v":0,"d":"$0.00"}]
[86,"Hosta Patriot","1 Gal. Perennials",{"$f":"Prices!D120","v":{"v":11,"d":"11.00"}},null,{"v":0,"d":"$0.00"}]
[87,"Hosta Elegans","1 Gal. Perennials",{"$f":"Prices!D121","v":{"v":11,"d":"11.00"}},null,{"v":0,"d":"$0.00"}]
[88,"Hosta Guacamole","1 Gal. Perennials",{"$f":"Prices!D122","v":{"v":14,"d":"14.00"}},null,{"v":0,"d":"$0.00"}]
[null,null,"Total (for this page)",null,{"$f":"SUM(E61:E114)","v":0},{"$f":"SUM(F61:F114)","v":{"v":0,"d":"$0.00"}}]
[null,null,"Total (from previous page)",null,{"$f":"E47","v":0},{"$f":"F47","v":{"v":0,"d":"$0.00"}}]
[null,null,"Grand Total",null,{"$f":"E115+E116","v":0},{"$f":"F115+F116","v":{"v":0,"d":"$0.00"}}]

{"sheet":"End","index":4,"n_rows":0,"n_cols":0,"rows_kept":0}

{"sheet":"Prices","index":5,"n_rows":122,"n_cols":10,"rows_kept":122,"merged":[[0,3,10,3],[0,4,10,4],[0,5,10,5],[0,6,10,6],[0,7,10,7]]}
[{"$nulls":3},"Selling Price","Profit","Troop %","Scout %","Toms Price"]
{"$rows_empty":13}
[1,"Combination Basket (Fuchsia & Geranium)","12\" Comb. Basket (plastic)",{"v":26,"d":"$26.00"},{"$f":"D15-H15","v":{"v":9.5,"d":"$9.50"}},{"v":0.5,"d":"50.00%"},{"v":0.5,"d":"50.00%"},{"v":16.5,"d":"$16.50"}]
[2,"Begonia - non-stop red (shade plant)","10\" Basket (plastic)",{"v":18.65,"d":"$18.65"},{"v":8.399999999999999,"d":"$8.40"},{"v":0.5,"d":"50.00%"},{"v":0.5,"d":"50.00%"},{"v":10.25,"d":"$10.25"}]
[3,"Fuchsia (pink and purple - shade plant)","10\" Basket (plastic)",{"v":18.65,"d":"$18.65"},{"v":8.399999999999999,"d":"$8.40"},{"v":0.5,"d":"50.00%"},{"v":0.5,"d":"50.00%"},{"v":10.25,"d":"$10.25"}]
[4,"Geranium (ivy) - red","10\" Basket (plastic)",{"v":18.65,"d":"$18.65"},{"v":8.399999999999999,"d":"$8.40"},{"v":0.5,"d":"50.00%"},{"v":0.5,"d":"50.00%"},{"v":10.25,"d":"$10.25"}]
[5,"Geranium (ivy) - pink","10\" Basket (plastic)",{"v":18.65,"d":"$18.65"},{"v":8.399999999999999,"d":"$8.40"},{"v":0.5,"d":"50.00%"},{"v":0.5,"d":"50.00%"},{"v":10.25,"d":"$10.25"}]
[6,"Geranium (ivy) - lavendar","10\" Basket (plastic)",{"v":18.65,"d":"$18.65"},{"v":8.399999999999999,"d":"$8.40"},{"v":0.5,"d":"50.00%"},{"v":0.5,"d":"50.00%"},{"v":10.25,"d":"$10.25"}]
[7,"Petunia - red","10\" Basket (plastic)",{"v":18.65,"d":"$18.65"},{"v":8.399999999999999,"d":"$8.40"},{"v":0.5,"d":"50.00%"},{"v":0.5,"d":"50.00%"},{"v":10.25,"d":"$10.25"}]
[8,"Petunia - pink","10\" Basket (plastic)",{"v":18.65,"d":"$18.65"},{"v":8.399999999999999,"d":"$8.40"},{"v":0.5,"d":"50.00%"},{"v":0.5,"d":"50.00%"},{"v":10.25,"d":"$10.25"}]
[9,"Impatien - pink (shade plant)","10\" Basket (plastic)",{"v":18.65,"d":"$18.65"},{"v":8.399999999999999,"d":"$8.40"},{"v":0.5,"d":"50.00%"},{"v":0.5,"d":"50.00%"},{"v":10.25,"d":"$10.25"}]
[10,"Impatien - red (shade plant)","10\" Basket (plastic)",{"v":18.65,"d":"$18.65"},{"v":8.399999999999999,"d":"$8.40"},{"v":0.5,"d":"50.00%"},{"v":0.5,"d":"50.00%"},{"v":10.25,"d":"$10.25"}]
[11,"Impatien - purple (shade plant)","10\" Basket (plastic)",{"v":18.65,"d":"$18.65"},{"v":8.399999999999999,"d":"$8.40"},{"v":0.5,"d":"50.00%"},{"v":0.5,"d":"50.00%"},{"v":10.25,"d":"$10.25"},null," "]
[12,"Impatien (New Guinea) - pink","10\" Basket (plastic)",{"v":18.65,"d":"$18.65"},{"v":8.399999999999999,"d":"$8.40"},{"v":0.5,"d":"50.00%"},{"v":0.5,"d":"50.00%"},{"v":10.25,"d":"$10.25"}]
[13,"Impatien (New Guinea) - red","10\" Basket (plastic)",{"v":18.65,"d":"$18.65"},{"v":8.399999999999999,"d":"$8.40"},{"v":0.5,"d":"50.00%"},{"v":0.5,"d":"50.00%"},{"v":10.25,"d":"$10.25"}]
[14,"Cucumber","4 plants",{"v":18.64,"d":"$18.64"},{"v":17.87,"d":"$17.87"},{"v":0.5,"d":"50.00%"},{"v":0.5,"d":"50.00%"},{"v":0.77,"d":"$0.77"}]
[15,"Sweet Bell Pepper","4 plants",{"v":18.64,"d":"$18.64"},{"v":17.87,"d":"$17.87"},{"v":0.5,"d":"50.00%"},{"v":0.5,"d":"50.00%"},{"v":0.77,"d":"$0.77"}]
[16,"Zucchini","4 plants",{"v":18.64,"d":"$18.64"},{"v":17.87,"d":"$17.87"},{"v":0.5,"d":"50.00%"},{"v":0.5,"d":"50.00%"},{"v":0.77,"d":"$0.77"}]
[17,"Tomato - Burpee Big Boy","4 plants",{"v":18.64,"d":"$18.64"},{"v":17.87,"d":"$17.87"},{"v":0.5,"d":"50.00%"},{"v":0.5,"d":"50.00%"},{"v":0.77,"d":"$0.77"}]
[18,"Tomato - Cherry","4 plants",{"v":18.64,"d":"$18.64"},{"v":17.87,"d":"$17.87"},{"v":0.5,"d":"50.00%"},{"v":0.5,"d":"50.00%"},{"v":0.77,"d":"$0.77"}]
[19,"Tomato - Early Girl","4 plants",{"v":18.64,"d":"$18.64"},{"v":17.87,"d":"$17.87"},{"v":0.5,"d":"50.00%"},{"v":0.5,"d":"50.00%"},{"v":0.77,"d":"$0.77"}]
[14,"Cucumber","4 plants",{"v":1.6,"d":"$1.60"},{"v":0.7800000000000001,"d":"$0.78"},{"v":0.5,"d":"50.00%"},{"v":0.5,"d":"50.00%"},{"v":0.82,"d":"$0.82"},{"$f":"23.16/18","v":{"v":1.2866666666666666,"d":"$1.29"}}]
[15,"Sweet Bell Pepper","4 plants",{"v":1.6,"d":"$1.60"},{"v":0.7800000000000001,"d":"$0.78"},{"v":0.5,"d":"50.00%"},{"v":0.5,"d":"50.00%"},{"v":0.82,"d":"$0.82"}]
[16,"Zucchini","4 plants",{"v":1.6,"d":"$1.60"},{"v":0.7800000000000001,"d":"$0.78"},{"v":0.5,"d":"50.00%"},{"v":0.5,"d":"50.00%"},{"v":0.82,"d":"$0.82"},{"$f":"11.6/10","v":{"v":1.16,"d":"$1.16"}}]
[17,"Tomato - Burpee Big Boy","4 plants",{"v":1.6,"d":"$1.60"},{"v":0.7800000000000001,"d":"$0.78"},{"v":0.5,"d":"50.00%"},{"v":0.5,"d":"50.00%"},{"v":0.82,"d":"$0.82"}]
[18,"Tomato - Cherry","4 plants",{"v":1.6,"d":"$1.60"},{"v":0.7800000000000001,"d":"$0.78"},{"v":0.5,"d":"50.00%"},{"v":0.5,"d":"50.00%"},{"v":0.82,"d":"$0.82"}]
[19,"Tomato - Early Girl","4 plants",{"v":1.6,"d":"$1.60"},{"v":0.7800000000000001,"d":"$0.78"},{"v":0.5,"d":"50.00%"},{"v":0.5,"d":"50.00%"},{"v":0.82,"d":"$0.82"}]
[20,"Asparagus Fern","4\" potted plants",{"v":3.1,"d":"$3.10"},{"v":1.79,"d":"$1.79"},{"v":0.5,"d":"50.00%"},{"v":0.5,"d":"50.00%"},{"v":1.31,"d":"$1.31"},{"$f":"22.35/10","v":{"v":2.2350000000000003,"d":"$2.24"}}]
[21,"Dracaena Spike","4\" potted plants",{"v":3.1,"d":"$3.10"},{"v":1.79,"d":"$1.79"},{"v":0.5,"d":"50.00%"},{"v":0.5,"d":"50.00%"},{"v":1.31,"d":"$1.31"}]
[22,"Geranium - red","4\" potted plants",{"v":3.1,"d":"$3.10"},{"v":1.9100000000000001,"d":"$1.91"},{"v":0.5,"d":"50.00%"},{"v":0.5,"d":"50.00%"},{"v":1.19,"d":"$1.19"}]
[23,"Geranium - white","4\" potted plants",{"v":3.1,"d":"$3.10"},{"v":1.9100000000000001,"d":"$1.91"},{"v":0.5,"d":"50.00%"},{"v":0.5,"d":"50.00%"},{"v":1.19,"d":"$1.19"}]
[24,"Geranium - pink","4\" potted plants",{"v":3.1,"d":"$3.10"},{"v":1.9100000000000001,"d":"$1.91"},{"v":0.5,"d":"50.00%"},{"v":0.5,"d":"50.00%"},{"v":1.19,"d":"$1.19"}]
[25,"Vinca Vine","4\" potted plants",{"v":3.1,"d":"$3.10"},{"v":1.79,"d":"$1.79"},{"v":0.5,"d":"50.00%"},{"v":0.5,"d":"50.00%"},{"v":1.31,"d":"$1.31"}]
[26,"Bacopa","4 1/2\" potted plants",{"v":5.1,"d":"$5.10"},{"v":2.6999999999999997,"d":"$2.70"},{"v":0.5,"d":"50.00%"},{"v":0.5,"d":"50.00%"},{"v":2.4,"d":"$2.40"}]
[27,"Begonia - non-stop red (shade plant)","4 1/2\" potted plants",{"v":5.1,"d":"$5.10"},{"v":2.6999999999999997,"d":"$2.70"},{"v":0.5,"d":"50.00%"},{"v":0.5,"d":"50.00%"},{"v":2.4,"d":"$2.40"}]
[28,"Gerber Daisy","4 1/2\" potted plants",{"v":5.1,"d":"$5.10"},{"v":2.6999999999999997,"d":"$2.70"},{"v":0.5,"d":"50.00%"},{"v":0.5,"d":"50.00%"},{"v":2.4,"d":"$2.40"}]
[29,"Impatien, Double Rosebud - red","4 1/2\" potted plants",{"v":5.1,"d":"$5.10"},{"v":2.6999999999999997,"d":"$2.70"},{"v":0.5,"d":"50.00%"},{"v":0.5,"d":"50.00%"},{"v":2.4,"d":"$2.40"}]
[30,"Impatien, Double Rosebud - pink","4 1/2\" potted plants",{"v":5.1,"d":"$5.10"},{"v":2.6999999999999997,"d":"$2.70"},{"v":0.5,"d":"50.00%"},{"v":0.5,"d":"50.00%"},{"v":2.4,"d":"$2.40"}]
[31,"Impatien, Double Rosebud - violet","4 1/2\" potted plants",{"v":5.1,"d":"$5.10"},{"v":2.6999999999999997,"d":"$2.70"},{"v":0.5,"d":"50.00%"},{"v":0.5,"d":"50.00%"},{"v":2.4,"d":"$2.40"}]
[32,"Lantana","4 1/2\" potted plants",{"v":5.1,"d":"$5.10"},{"v":2.6999999999999997,"d":"$2.70"},{"v":0.5,"d":"50.00%"},{"v":0.5,"d":"50.00%"},{"v":2.4,"d":"$2.40"}]
[33,"Sweet Potato Vine","4 1/2\" potted plants",{"v":5.1,"d":"$5.10"},{"v":2.6999999999999997,"d":"$2.70"},{"v":0.5,"d":"50.00%"},{"v":0.5,"d":"50.00%"},{"v":2.4,"d":"$2.40"}]
[34,"Verbena - purple","4 1/2\" potted plants",{"v":5.1,"d":"$5.10"},{"v":2.6999999999999997,"d":"$2.70"},{"v":0.5,"d":"50.00%"},{"v":0.5,"d":"50.00%"},{"v":2.4,"d":"$2.40"}]
[35,{"$nulls":4},{"v":0.5,"d":"50.00%"},{"v":0.5,"d":"50.00%"}]
[36,{"$nulls":4},{"v":0.5,"d":"50.00%"},{"v":0.5,"d":"50.00%"}]
[37,{"$nulls":4},{"v":0.5,"d":"50.00%"},{"v":0.5,"d":"50.00%"}]
[38,{"$nulls":4},{"v":0.5,"d":"50.00%"},{"v":0.5,"d":"50.00%"}]
[39,{"$nulls":4},{"v":0.5,"d":"50.00%"},{"v":0.5,"d":"50.00%"}]
[40,{"$nulls":4},{"v":0.5,"d":"50.00%"},{"v":0.5,"d":"50.00%"}]
[41,{"$nulls":4},{"v":0.5,"d":"50.00%"},{"v":0.5,"d":"50.00%"}]
[42,{"$nulls":4},{"v":0.5,"d":"50.00%"},{"v":0.5,"d":"50.00%"}]
[43,{"$nulls":4},{"v":0.5,"d":"50.00%"},{"v":0.5,"d":"50.00%"}]
[44,{"$nulls":4},{"v":0.5,"d":"50.00%"},{"v":0.5,"d":"50.00%"}]
[45,{"$nulls":4},{"v":0.5,"d":"50.00%"},{"v":0.5,"d":"50.00%"}]
[46,{"$nulls":4},{"v":0.5,"d":"50.00%"},{"v":0.5,"d":"50.00%"}]
[47,{"$nulls":4},{"v":0.5,"d":"50.00%"},{"v":0.5,"d":"50.00%"}]
[48,{"$nulls":4},{"v":0.5,"d":"50.00%"},{"v":0.5,"d":"50.00%"}]
[35,"Astilbe - pink","1 Gal. Perennials",{"v":11,"d":"$11.00"},{"$f":"D69-H69","v":{"v":4.25,"d":"$4.25"}},{"v":0.5,"d":"50.00%"},{"v":0.5,"d":"50.00%"},{"v":6.75,"d":"$6.75"}]
[36,"Astilbe - red","1 Gal. Perennials",{"v":11,"d":"$11.00"},{"v":4.25,"d":"$4.25"},{"v":0.5,"d":"50.00%"},{"v":0.5,"d":"50.00%"},{"v":6.75,"d":"$6.75"}]
[37,"Astilbe - white","1 Gal. Perennials",{"v":11,"d":"$11.00"},{"v":4.25,"d":"$4.25"},{"v":0.5,"d":"50.00%"},{"v":0.5,"d":"50.00%"},{"v":6.75,"d":"$6.75"}]
[38,"Aster","1 Gal. Perennials",{"v":11,"d":"$11.00"},{"v":4,"d":"$4.00"},{"v":0.5,"d":"50.00%"},{"v":0.5,"d":"50.00%"},{"v":7,"d":"$7.00"}]
[39,"Bee Balm","1 Gal. Perennials",{"v":11,"d":"$11.00"},{"v":4,"d":"$4.00"},{"v":0.5,"d":"50.00%"},{"v":0.5,"d":"50.00%"},{"v":7,"d":"$7.00"}]
[40,"Bleeding Heart - pink (shade plant)","1 Gal. Perennials",{"v":10,"d":"$10.00"},{"v":4.75,"d":"$4.75"},{"v":0.5,"d":"50.00%"},{"v":0.5,"d":"50.00%"},{"v":5.25,"d":"$5.25"}]
[41,"Blue Stavia","1 Gal. Perennials",{"v":11,"d":"$11.00"},{"v":5.5,"d":"$5.50"},{"v":0.5,"d":"50.00%"},{"v":0.5,"d":"50.00%"},{"v":5.5,"d":"$5.50"}]
[42,"Catmint","1 Gal. Perennials",{"v":11,"d":"$11.00"},{"v":4.75,"d":"$4.75"},{"v":0.5,"d":"50.00%"},{"v":0.5,"d":"50.00%"},{"v":6.25,"d":"$6.25"}]
[43,"Columbine","1 Gal. Perennials",{"v":11,"d":"$11.00"},{"v":4.5,"d":"$4.50"},{"v":0.5,"d":"50.00%"},{"v":0.5,"d":"50.00%"},{"v":6.5,"d":"$6.50"}]
[44,"Cone Flower (purple)","1 Gal. Perennials",{"v":11,"d":"$11.00"},{"v":5.5,"d":"$5.50"},{"v":0.5,"d":"50.00%"},{"v":0.5,"d":"50.00%"},{"v":5.5,"d":"$5.50"}]
[45,"Coral Bells (Purple Palace)","1 Gal. Perennials",{"v":11,"d":"$11.00"},{"v":5.75,"d":"$5.75"},{"v":0.5,"d":"50.00%"},{"v":0.5,"d":"50.00%"},{"v":5.25,"d":"$5.25"}]
[46,"Creeping Phlox - blue","1 Gal. Perennials",{"v":6.8,"d":"$6.80"},{"v":2.3,"d":"$2.30"},{"v":0.5,"d":"50.00%"},{"v":0.5,"d":"50.00%"},{"v":4.5,"d":"$4.50"}]
[47,"Creeping Phlox - pink","1 Gal. Perennials",{"v":6.8,"d":"$6.80"},{"v":2.3,"d":"$2.30"},{"v":0.5,"d":"50.00%"},{"v":0.5,"d":"50.00%"},{"v":4.5,"d":"$4.50"}]
[48,"Hosta - variegated (shade plant)","1 Gal. Perennials",{"v":10,"d":"$10.00"},{"v":4.5,"d":"$4.50"},{"v":0.5,"d":"50.00%"},{"v":0.5,"d":"50.00%"},{"v":5.5,"d":"$5.50"}]
[49,"Lily of the Valley","1 Gal. Perennials",{"v":6.8,"d":"$6.80"},{"v":2.3,"d":"$2.30"},{"v":0.5,"d":"50.00%"},{"v":0.5,"d":"50.00%"},{"v":4.5,"d":"$4.50"}]
[50,"Karl Forester","1 Gal. Perennial Grass",{"v":11,"d":"$11.00"},{"v":3.6500000000000004,"d":"$3.65"},{"v":0.5,"d":"50.00%"},{"v":0.5,"d":"50.00%"},{"v":7.35,"d":"$7.35"}]
[51,"Alyssum - white","Half Flat (24 plants)",{"v":8.3,"d":"$8.30"},{"$f":"E97/2","v":{"v":3.6000000000000005,"d":"$3.60"}},{"v":0.5,"d":"50.00%"},{"v":0.5,"d":"50.00%"},{"v":9.4,"d":"$9.40"}]
[52,"Begonia - mixed (shade plant)","Half Flat (24 plants)",{"v":8.3,"d":"$8.30"},{"v":3.6000000000000005,"d":"$3.60"},{"v":0.5,"d":"50.00%"},{"v":0.5,"d":"50.00%"},{"v":9.4,"d":"$9.40"}]
[53,"Coleus - mixed","Half Flat (24 plants)",{"v":8.3,"d":"$8.30"},{"v":3.6000000000000005,"d":"$3.60"},{"v":0.5,"d":"50.00%"},{"v":0.5,"d":"50.00%"},{"v":9.4,"d":"$9.40"}]
[54,"Impatien - mixed (shade plant)","Half Flat (24 plants)",{"v":8.3,"d":"$8.30"},{"v":3.6000000000000005,"d":"$3.60"},{"v":0.5,"d":"50.00%"},{"v":0.5,"d":"50.00%"},{"v":9.4,"d":"$9.40"}]
[55,"Marigold - med mixed","Half Flat (24 plants)",{"v":8.3,"d":"$8.30"},{"v":3.6000000000000005,"d":"$3.60"},{"v":0.5,"d":"50.00%"},{"v":0.5,"d":"50.00%"},{"v":9.4,"d":"$9.40"}]
[56,"Moss Roses","Half Flat (24 plants)",{"v":8.3,"d":"$8.30"},{"v":3.6000000000000005,"d":"$3.60"},{"v":0.5,"d":"50.00%"},{"v":0.5,"d":"50.00%"},{"v":9.4,"d":"$9.40"}]
[57,"Pansy - mixed","Half Flat (24 plants)",{"v":8.3,"d":"$8.30"},{"v":3.6000000000000005,"d":"$3.60"},{"v":0.5,"d":"50.00%"},{"v":0.5,"d":"50.00%"},{"v":9.4,"d":"$9.40"}]
[58,"Petunia - mixed","Half Flat (24 plants)",{"v":8.3,"d":"$8.30"},{"v":3.6000000000000005,"d":"$3.60"},{"v":0.5,"d":"50.00%"},{"v":0.5,"d":"50.00%"},{"v":9.4,"d":"$9.40"}]
[59,"Snap Dragon - mixed","Half Flat (24 plants)",{"v":8.3,"d":"$8.30"},{"v":3.6000000000000005,"d":"$3.60"},{"v":0.5,"d":"50.00%"},{"v":0.5,"d":"50.00%"},{"v":9.4,"d":"$9.40"}]
[60,"Vinca - pink","Half Flat (24 plants)",{"v":8.3,"d":"$8.30"},{"v":3.6000000000000005,"d":"$3.60"},{"v":0.5,"d":"50.00%"},{"v":0.5,"d":"50.00%"},{"v":9.4,"d":"$9.40"}]
[61,"Vinca - purple","Half Flat (24 plants)",{"v":8.3,"d":"$8.30"},{"v":3.6000000000000005,"d":"$3.60"},{"v":0.5,"d":"50.00%"},{"v":0.5,"d":"50.00%"},{"v":9.4,"d":"$9.40"}]
[62,"Zinnia - tall","Half Flat (24 plants)",{"v":8.3,"d":"$8.30"},{"v":3.6000000000000005,"d":"$3.60"},{"v":0.5,"d":"50.00%"},{"v":0.5,"d":"50.00%"},{"v":9.4,"d":"$9.40"}]
[63,"Alyssum - white","Whole Flat (48 plants)",{"v":16.6,"d":"$16.60"},{"$f":"D97-H97","v":{"v":7.200000000000001,"d":"$7.20"}},{"v":0.5,"d":"50.00%"},{"v":0.5,"d":"50.00%"},{"v":9.4,"d":"$9.40"}]
[64,"Begonia - mixed (shade plant)","Whole Flat (48 plants)",{"v":16.6,"d":"$16.60"},{"v":7.200000000000001,"d":"$7.20"},{"v":0.5,"d":"50.00%"},{"v":0.5,"d":"50.00%"},{"v":9.4,"d":"$9.40"}]
[65,"Coleus - mixed","Whole Flat (48 plants)",{"v":16.6,"d":"$16.60"},{"v":7.200000000000001,"d":"$7.20"},{"v":0.5,"d":"50.00%"},{"v":0.5,"d":"50.00%"},{"v":9.4,"d":"$9.40"}]
[66,"Impatien - mixed (shade plant)","Whole Flat (48 plants)",{"v":16.6,"d":"$16.60"},{"v":7.200000000000001,"d":"$7.20"},{"v":0.5,"d":"50.00%"},{"v":0.5,"d":"50.00%"},{"v":9.4,"d":"$9.40"}]
[67,"Marigold - med mixed","Whole Flat (48 plants)",{"v":16.6,"d":"$16.60"},{"v":7.200000000000001,"d":"$7.20"},{"v":0.5,"d":"50.00%"},{"v":0.5,"d":"50.00%"},{"v":9.4,"d":"$9.40"}]
[68,"Moss Roses","Whole Flat (48 plants)",{"v":16.6,"d":"$16.60"},{"v":7.200000000000001,"d":"$7.20"},{"v":0.5,"d":"50.00%"},{"v":0.5,"d":"50.00%"},{"v":9.4,"d":"$9.40"}]
[69,"Pansy - mixed","Whole Flat (48 plants)",{"v":16.6,"d":"$16.60"},{"v":7.200000000000001,"d":"$7.20"},{"v":0.5,"d":"50.00%"},{"v":0.5,"d":"50.00%"},{"v":9.4,"d":"$9.40"}]
[70,"Petunia - mixed","Whole Flat (48 plants)",{"v":16.6,"d":"$16.60"},{"v":7.200000000000001,"d":"$7.20"},{"v":0.5,"d":"50.00%"},{"v":0.5,"d":"50.00%"},{"v":9.4,"d":"$9.40"}]
[71,"Snap Dragon - mixed","Whole Flat (48 plants)",{"v":16.6,"d":"$16.60"},{"v":7.200000000000001,"d":"$7.20"},{"v":0.5,"d":"50.00%"},{"v":0.5,"d":"50.00%"},{"v":9.4,"d":"$9.40"}]
[72,"Vinca - pink","Whole Flat (48 plants)",{"v":16.6,"d":"$16.60"},{"v":7.200000000000001,"d":"$7.20"},{"v":0.5,"d":"50.00%"},{"v":0.5,"d":"50.00%"},{"v":9.4,"d":"$9.40"}]
[73,"Vinca - purple","Whole Flat (48 plants)",{"v":16.6,"d":"$16.60"},{"v":7.200000000000001,"d":"$7.20"},{"v":0.5,"d":"50.00%"},{"v":0.5,"d":"50.00%"},{"v":9.4,"d":"$9.40"}]
[74,"Zinnia - tall","Whole Flat (48 plants)",{"v":16.6,"d":"$16.60"},{"v":7.200000000000001,"d":"$7.20"},{"v":0.5,"d":"50.00%"},{"v":0.5,"d":"50.00%"},{"v":9.4,"d":"$9.40"}]
[75,"Geranium, Max Frei","1 Gal. Perennials",{"v":11,"d":"$11.00"},{"v":4,"d":"$4.00"},{"v":0.5,"d":"50.00%"},{"v":0.5,"d":"50.00%"},{"v":7,"d":"$7.00"}]
[76,"Dianthus, Firewitch","1 Gal. Perennials",{"v":11,"d":"$11.00"},{"v":5.3,"d":"$5.30"},{"v":0.5,"d":"50.00%"},{"v":0.5,"d":"50.00%"},{"v":5.7,"d":"$5.70"}]
[77,"Shasta Daisy","1 Gal. Perennials",{"v":11,"d":"$11.00"},{"v":3.75,"d":"$3.75"},{"v":0.5,"d":"50.00%"},{"v":0.5,"d":"50.00%"},{"v":7.25,"d":"$7.25"}]
[78,"Stella De Ora Daylilly","1 Gal. Perennials",{"v":11,"d":"$11.00"},{"v":5.5,"d":"$5.50"},{"v":0.5,"d":"50.00%"},{"v":0.5,"d":"50.00%"},{"v":5.5,"d":"$5.50"}]
[79,"Pardon me Daylilly","1 Gal. Perennials",{"v":11,"d":"$11.00"},{"v":4,"d":"$4.00"},{"v":0.5,"d":"50.00%"},{"v":0.5,"d":"50.00%"},{"v":7,"d":"$7.00"}]
[80,"Black-eyed Susan","1 Gal. Perennials",{"v":11,"d":"$11.00"},{"v":5.5,"d":"$5.50"},{"v":0.5,"d":"50.00%"},{"v":0.5,"d":"50.00%"},{"v":5.5,"d":"$5.50"}]
[81,"Russian Sage","1 Gal. Perennials",{"v":11,"d":"$11.00"},{"v":5.25,"d":"$5.25"},{"v":0.5,"d":"50.00%"},{"v":0.5,"d":"50.00%"},{"v":5.75,"d":"$5.75"}]
[82,"Autumn Joy Sedum","1 Gal. Perennials",{"v":11,"d":"$11.00"},{"v":5.5,"d":"$5.50"},{"v":0.5,"d":"50.00%"},{"v":0.5,"d":"50.00%"},{"v":5.5,"d":"$5.50"}]
[83,"Coral Bell (Caramel)","1 Gal. Perennials",{"v":14,"d":"$14.00"},{"v":4.1,"d":"$4.10"},{"v":0.5,"d":"50.00%"},{"v":0.5,"d":"50.00%"},{"v":9.9,"d":"$9.90"}]
[84,"Fern Ostrich","1 Gal. Perennials",{"v":14,"d":"$14.00"},{"v":3,"d":"$3.00"},{"v":0.5,"d":"50.00%"},{"v":0.5,"d":"50.00%"},{"v":11,"d":"$11.00"}]
[85,"Japanese Painted Fern","1 Gal. Perennials",{"v":14,"d":"$14.00"},{"v":3,"d":"$3.00"},{"v":0.5,"d":"50.00%"},{"v":0.5,"d":"50.00%"},{"v":11,"d":"$11.00"}]
[86,"Hosta Patriot","1 Gal. Perennials",{"v":11,"d":"$11.00"},{"v":3.3,"d":"$3.30"},{"v":0.5,"d":"50.00%"},{"v":0.5,"d":"50.00%"},{"v":7.7,"d":"$7.70"}]
[87,"Hosta Elegans","1 Gal. Perennials",{"v":11,"d":"$11.00"},{"v":3.3,"d":"$3.30"},{"v":0.5,"d":"50.00%"},{"v":0.5,"d":"50.00%"},{"v":7.7,"d":"$7.70"}]
[88,"Hosta Guacamole","1 Gal. Perennials",{"v":14,"d":"$14.00"},{"v":5,"d":"$5.00"},{"v":0.5,"d":"50.00%"},{"v":0.5,"d":"50.00%"},{"v":9,"d":"$9.00"}]

{"sheet":"TOTAL","index":6,"n_rows":120,"n_cols":10,"rows_kept":120,"merged":[[0,0,2,6],[3,0,3,1],[3,2,3,6],[4,0,9,6],[48,2,48,3],[50,1,50,7],[51,1,52,6],[59,0,59,5],[60,0,60,1],[60,2,60,5]]}
["BSA Troop 101: Annual Mother's Day Plant & Flower Sale -  Customer Total Order Form (pg 1 of 2)"]
[]
[]
["BSA Troop 101 Scout Name:",null,{"$f":"Customer1!C10","v":0}]
["Important. Please Note: This worksheet is automatically calculated for you.  Do not edit!"]
[]
[]
[]
[]
[]
["#","Plant Name & Description","Type","Unit $","Qty","Total",null,"Scout Profit"]
[]
[]
[]
[1,"Combination Basket (Fuchsia & Geranium)","12\" Comb. Basket (plastic)",{"$f":"Prices!D15","v":{"v":26,"d":"26.00"}},{"$f":"SUM(Start:End!E13:E13)","v":0},{"$f":"D15*E15","v":{"v":0,"d":"$0.00"}},null,{"$f":"((Prices!E15*Prices!G15)*TOTAL!E15)","v":{"v":0,"d":"$0.00"}}]
[2,"Begonia - non-stop red (shade plant)","10\" Basket (plastic)",{"$f":"Prices!D16","v":18.65},{"$f":"SUM(Start:End!E14:E14)","v":0},{"v":0,"d":"$0.00"},null,{"$f":"((Prices!E16*Prices!G16)*TOTAL!E16)","v":{"v":0,"d":"$0.00"}}]
[3,"Fuchsia (pink and purple - shade plant)","10\" Basket (plastic)",{"$f":"Prices!D17","v":18.65},{"$f":"SUM(Start:End!E15:E15)","v":0},{"v":0,"d":"$0.00"},null,{"$f":"((Prices!E17*Prices!G17)*TOTAL!E17)","v":{"v":0,"d":"$0.00"}}]
[4,"Geranium (ivy) - red","10\" Basket (plastic)",{"$f":"Prices!D18","v":18.65},{"$f":"SUM(Start:End!E16:E16)","v":0},{"v":0,"d":"$0.00"},null,{"$f":"((Prices!E18*Prices!G18)*TOTAL!E18)","v":{"v":0,"d":"$0.00"}}]
[5,"Geranium (ivy) - pink","10\" Basket (plastic)",{"$f":"Prices!D19","v":18.65},{"$f":"SUM(Start:End!E17:E17)","v":0},{"v":0,"d":"$0.00"},null,{"$f":"((Prices!E19*Prices!G19)*TOTAL!E19)","v":{"v":0,"d":"$0.00"}}]
[6,"Geranium (ivy) - lavendar ","10\" Basket (plastic)",{"$f":"Prices!D20","v":18.65},{"$f":"SUM(Start:End!E18:E18)","v":0},{"v":0,"d":"$0.00"},null,{"$f":"((Prices!E20*Prices!G20)*TOTAL!E20)","v":{"v":0,"d":"$0.00"}}," "]
[7,"Petunia - red","10\" Basket (plastic)",{"$f":"Prices!D21","v":18.65},{"$f":"SUM(Start:End!E19:E19)","v":0},{"v":0,"d":"$0.00"},null,{"$f":"((Prices!E21*Prices!G21)*TOTAL!E21)","v":{"v":0,"d":"$0.00"}}]
[8,"Petunia - pink","10\" Basket (plastic)",{"$f":"Prices!D22","v":18.65},{"$f":"SUM(Start:End!E20:E20)","v":0},{"v":0,"d":"$0.00"},null,{"$f":"((Prices!E22*Prices!G22)*TOTAL!E22)","v":{"v":0,"d":"$0.00"}}]
[9,"Impatiens - pink (shade plant)","10\" Basket (plastic)",{"$f":"Prices!D23","v":18.65},{"$f":"SUM(Start:End!E21:E21)","v":0},{"v":0,"d":"$0.00"},null,{"$f":"((Prices!E23*Prices!G23)*TOTAL!E23)","v":{"v":0,"d":"$0.00"}}]
[10,"Impatiens - red (shade plant)","10\" Basket (plastic)",{"$f":"Prices!D24","v":18.65},{"$f":"SUM(Start:End!E22:E22)","v":0},{"v":0,"d":"$0.00"},null,{"$f":"((Prices!E24*Prices!G24)*TOTAL!E24)","v":{"v":0,"d":"$0.00"}}]
[11,"Impatiens - purple (shade plant)","10\" Basket (plastic)",{"$f":"Prices!D25","v":18.65},{"$f":"SUM(Start:End!E23:E23)","v":0},{"v":0,"d":"$0.00"},null,{"$f":"((Prices!E25*Prices!G25)*TOTAL!E25)","v":{"v":0,"d":"$0.00"}},null," "]
[12,"Impatiens (New Guinea) - pink","10\" Basket (plastic)",{"$f":"Prices!D26","v":18.65},{"$f":"SUM(Start:End!E24:E24)","v":0},{"v":0,"d":"$0.00"},null,{"$f":"((Prices!E26*Prices!G26)*TOTAL!E26)","v":{"v":0,"d":"$0.00"}}]
[13,"Impatiens (New Guinea) - red","10\" Basket (plastic)",{"$f":"Prices!D27","v":18.65},{"$f":"SUM(Start:End!E25:E25)","v":0},{"v":0,"d":"$0.00"},null,{"$f":"((Prices!E27*Prices!G27)*TOTAL!E27)","v":{"v":0,"d":"$0.00"}}]
[14,"Cucumber","4 plants",{"$f":"Prices!D34","v":{"v":1.6,"d":"1.60"}},{"$f":"SUM(Start:End!E26:E26)","v":0},{"v":0,"d":"$0.00"},null,{"$f":"((Prices!E34*Prices!G34)*TOTAL!E34)","v":{"v":0,"d":"$0.00"}}]
[15,"Green Bell Pepper ","4 plants",{"$f":"Prices!D35","v":{"v":1.6,"d":"1.60"}},{"$f":"SUM(Start:End!E27:E27)","v":0},{"v":0,"d":"$0.00"},null,{"$f":"((Prices!E35*Prices!G35)*TOTAL!E35)","v":{"v":0,"d":"$0.00"}}]
[16,"Zucchini","4 plants",{"$f":"Prices!D36","v":{"v":1.6,"d":"1.60"}},{"$f":"SUM(Start:End!E28:E28)","v":0},{"v":0,"d":"$0.00"},null,{"$f":"((Prices!E36*Prices!G36)*TOTAL!E36)","v":{"v":0,"d":"$0.00"}}]
[17,"Tomato - Burpee Big Boy","4 plants",{"$f":"Prices!D37","v":{"v":1.6,"d":"1.60"}},{"$f":"SUM(Start:End!E29:E29)","v":0},{"v":0,"d":"$0.00"},null,{"$f":"((Prices!E37*Prices!G37)*TOTAL!E37)","v":{"v":0,"d":"$0.00"}}]
[18,"Tomato - Cherry","4 plants",{"$f":"Prices!D38","v":{"v":1.6,"d":"1.60"}},{"$f":"SUM(Start:End!E30:E30)","v":0},{"v":0,"d":"$0.00"},null,{"$f":"((Prices!E38*Prices!G38)*TOTAL!E38)","v":{"v":0,"d":"$0.00"}}]
[19,"Tomato - Early Girl","4 plants",{"$f":"Prices!D39","v":{"v":1.6,"d":"1.60"}},{"$f":"SUM(Start:End!E31:E31)","v":0},{"v":0,"d":"$0.00"},null,{"$f":"((Prices!E39*Prices!G39)*TOTAL!E39)","v":{"v":0,"d":"$0.00"}}]
[20,"Asparagus Fern","4\" potted plants",{"$f":"Prices!D40","v":{"v":3.1,"d":"3.10"}},{"$f":"SUM(Start:End!E32:E32)","v":0},{"v":0,"d":"$0.00"},null,{"$f":"((Prices!E40*Prices!G40)*TOTAL!E40)","v":{"v":0,"d":"$0.00"}}]
[21,"Dracaena Spike","4\" potted plants",{"$f":"Prices!D41","v":{"v":3.1,"d":"3.10"}},{"$f":"SUM(Start:End!E33:E33)","v":0},{"v":0,"d":"$0.00"},null,{"$f":"((Prices!E41*Prices!G41)*TOTAL!E41)","v":{"v":0,"d":"$0.00"}}]
[22,"Geranium - red","4\" potted plants",{"$f":"Prices!D42","v":{"v":3.1,"d":"3.10"}},{"$f":"SUM(Start:End!E34:E34)","v":0},{"v":0,"d":"$0.00"},null,{"$f":"((Prices!E42*Prices!G42)*TOTAL!E42)","v":{"v":0,"d":"$0.00"}}]
[23,"Geranium - white","4\" potted plants",{"$f":"Prices!D43","v":{"v":3.1,"d":"3.10"}},{"$f":"SUM(Start:End!E35:E35)","v":0},{"v":0,"d":"$0.00"},null,{"$f":"((Prices!E43*Prices!G43)*TOTAL!E43)","v":{"v":0,"d":"$0.00"}}]
[24,"Geranium - pink","4\" potted plants",{"$f":"Prices!D44","v":{"v":3.1,"d":"3.10"}},{"$f":"SUM(Start:End!E36:E36)","v":0},{"v":0,"d":"$0.00"},null,{"$f":"((Prices!E44*Prices!G44)*TOTAL!E44)","v":{"v":0,"d":"$0.00"}}]
[25,"Vinca Vine","4\" potted plants",{"$f":"Prices!D45","v":{"v":3.1,"d":"3.10"}},{"$f":"SUM(Start:End!E37:E37)","v":0},{"v":0,"d":"$0.00"},null,{"$f":"((Prices!E45*Prices!G45)*TOTAL!E45)","v":{"v":0,"d":"$0.00"}}]
[26,"Bacopa","4 1/2\" potted plants",{"$f":"Prices!D46","v":{"v":5.1,"d":"5.10"}},{"$f":"SUM(Start:End!E38:E38)","v":0},{"v":0,"d":"$0.00"},null,{"$f":"((Prices!E46*Prices!G46)*TOTAL!E46)","v":{"v":0,"d":"$0.00"}}]
[27,"Begonia - non-stop red (shade plant)","4 1/2\" potted plants",{"$f":"Prices!D47","v":{"v":5.1,"d":"5.10"}},{"$f":"SUM(Start:End!E39:E39)","v":0},{"v":0,"d":"$0.00"},null,{"$f":"((Prices!E47*Prices!G47)*TOTAL!E47)","v":{"v":0,"d":"$0.00"}}]
[28,"Gerber Daisy","4 1/2\" potted plants",{"$f":"Prices!D48","v":{"v":5.1,"d":"5.10"}},{"$f":"SUM(Start:End!E40:E40)","v":0},{"v":0,"d":"$0.00"},null,{"$f":"((Prices!E48*Prices!G48)*TOTAL!E42)","v":{"v":0,"d":"$0.00"}}]
[29,"Impatiens, Double Rosebud - red","4 1/2\" potted plants",{"$f":"Prices!D49","v":{"v":5.1,"d":"5.10"}},{"$f":"SUM(Start:End!E41:E41)","v":0},{"v":0,"d":"$0.00"},null,{"$f":"((Prices!E49*Prices!G49)*TOTAL!E43)","v":{"v":0,"d":"$0.00"}}]
[30,"Impatiens, Double Rosebud - pink","4 1/2\" potted plants",{"$f":"Prices!D50","v":{"v":5.1,"d":"5.10"}},{"$f":"SUM(Start:End!E42:E42)","v":0},{"v":0,"d":"$0.00"},null,{"$f":"((Prices!E50*Prices!G50)*TOTAL!E44)","v":{"v":0,"d":"$0.00"}}]
[31,"Impatiens, Double Rosebud - violet","4 1/2\" potted plants",{"$f":"Prices!D51","v":{"v":5.1,"d":"5.10"}},{"$f":"SUM(Start:End!E43:E43)","v":0},{"v":0,"d":"$0.00"},null,{"$f":"((Prices!E51*Prices!G51)*TOTAL!E45)","v":{"v":0,"d":"$0.00"}}]
[32,"Lantana","4 1/2\" potted plants",{"$f":"Prices!D52","v":{"v":5.1,"d":"5.10"}},{"$f":"SUM(Start:End!E44:E44)","v":0},{"v":0,"d":"$0.00"},null,{"$f":"((Prices!E52*Prices!G52)*TOTAL!E46)","v":{"v":0,"d":"$0.00"}}]
[33,"Sweet Potato Vine","4 1/2\" potted plants",{"$f":"Prices!D53","v":{"v":5.1,"d":"5.10"}},{"$f":"SUM(Start:End!E45:E45)","v":0},{"v":0,"d":"$0.00"},null,{"$f":"((Prices!E53*Prices!G53)*TOTAL!E47)","v":{"v":0,"d":"$0.00"}}]
[34,"Verbena - purple","4 1/2\" potted plants",{"$f":"Prices!D54","v":{"v":5.1,"d":"5.10"}},{"$f":"SUM(Start:End!E46:E46)","v":0},{"v":0,"d":"$0.00"},null,{"$f":"((Prices!E54*Prices!G54)*TOTAL!E48)","v":{"v":0,"d":"$0.00"}}]
[null,null,"Total (this page)",null,{"$f":"SUM(E15:E48)","v":0},{"$f":"SUM(F15:F48)","v":{"v":0,"d":"$0.00"}},null,{"$f":"SUM(H15:H48)","v":{"v":0,"d":"$0.00"}}]
[]
[null,"** A Deluxe Basket is a white wire holder w/ chain and lined in moss."]
[null,"* A special thanks goes out to Tom Tuch and Home Landscape Supply in Bolingbrook for their suport!!  To view the flower and plant catalog, visit the Troop 101 Website at:"]
[]
[null,"www.3firestroop101.org"]
[]
[]
[]
[]
[]
["Order Form - Continued (page 2 of 2)"]
["Scout Name: ",null,{"$f":"C4","v":0}]
["#","Plant Name & Description","Type","Unit $","Qty","Total",null,"Scout Profit"]
[35,"Astilbe - pink","1 Gal. Perennials",{"$f":"Prices!D69","v":{"v":11,"d":"11.00"}},{"$f":"SUM(Start:End!E61:E61)","v":0},{"$f":"D63*E63","v":{"v":0,"d":"$0.00"}},null,{"$f":"((Prices!E69*Prices!G69)*TOTAL!E63)","v":{"v":0,"d":"$0.00"}}]
[36,"Astilbe - red","1 Gal. Perennials",{"$f":"Prices!D70","v":{"v":11,"d":"11.00"}},{"$f":"SUM(Start:End!E62:E62)","v":0},{"v":0,"d":"$0.00"},null,{"$f":"((Prices!E70*Prices!G70)*TOTAL!E64)","v":{"v":0,"d":"$0.00"}}]
[37,"Astilbe - white","1 Gal. Perennials",{"$f":"Prices!D71","v":{"v":11,"d":"11.00"}},{"$f":"SUM(Start:End!E63:E63)","v":0},{"v":0,"d":"$0.00"},null,{"$f":"((Prices!E71*Prices!G71)*TOTAL!E65)","v":{"v":0,"d":"$0.00"}}]
[38,"Aster","1 Gal. Perennials",{"$f":"Prices!D72","v":{"v":11,"d":"11.00"}},{"$f":"SUM(Start:End!E64:E64)","v":0},{"v":0,"d":"$0.00"},null,{"$f":"((Prices!E72*Prices!G72)*TOTAL!E66)","v":{"v":0,"d":"$0.00"}}]
[39,"Bee Balm","1 Gal. Perennials",{"$f":"Prices!D73","v":{"v":11,"d":"11.00"}},{"$f":"SUM(Start:End!E65:E65)","v":0},{"v":0,"d":"$0.00"},null,{"$f":"((Prices!E73*Prices!G73)*TOTAL!E67)","v":{"v":0,"d":"$0.00"}}]
[40,"Bleeding Heart - pink (shade plant)","1 Gal. Perennials",{"$f":"Prices!D74","v":{"v":10,"d":"10.00"}},{"$f":"SUM(Start:End!E66:E66)","v":0},{"v":0,"d":"$0.00"},null,{"$f":"((Prices!E74*Prices!G74)*TOTAL!E68)","v":{"v":0,"d":"$0.00"}}]
[41,"Blue Salvia","1 Gal. Perennials",{"$f":"Prices!D75","v":{"v":11,"d":"11.00"}},{"$f":"SUM(Start:End!E67:E67)","v":0},{"v":0,"d":"$0.00"},null,{"$f":"((Prices!E75*Prices!G75)*TOTAL!E69)","v":{"v":0,"d":"$0.00"}}]
[42,"Catmint","1 Gal. Perennials",{"$f":"Prices!D76","v":{"v":11,"d":"11.00"}},{"$f":"SUM(Start:End!E68:E68)","v":0},{"v":0,"d":"$0.00"},null,{"$f":"((Prices!E76*Prices!G76)*TOTAL!E70)","v":{"v":0,"d":"$0.00"}}]
[43,"Columbine","1 Gal. Perennials",{"$f":"Prices!D77","v":{"v":11,"d":"11.00"}},{"$f":"SUM(Start:End!E69:E69)","v":0},{"v":0,"d":"$0.00"},null,{"$f":"((Prices!E77*Prices!G77)*TOTAL!E71)","v":{"v":0,"d":"$0.00"}}," "]
[44,"Cone Flower (purple)","1 Gal. Perennials",{"$f":"Prices!D78","v":{"v":11,"d":"11.00"}},{"$f":"SUM(Start:End!E70:E70)","v":0},{"v":0,"d":"$0.00"},null,{"$f":"((Prices!E78*Prices!G78)*TOTAL!E72)","v":{"v":0,"d":"$0.00"}}]
[45,"Coral Bells (Purple Palace)","1 Gal. Perennials",{"$f":"Prices!D79","v":{"v":11,"d":"11.00"}},{"$f":"SUM(Start:End!E71:E71)","v":0},{"v":0,"d":"$0.00"},null,{"$f":"((Prices!E79*Prices!G79)*TOTAL!E73)","v":{"v":0,"d":"$0.00"}}]
[46,"Creeping Phlox - blue","1 Quart Perrennials",{"$f":"Prices!D80","v":{"v":6.8,"d":"6.80"}},{"$f":"SUM(Start:End!E72:E72)","v":0},{"v":0,"d":"$0.00"},null,{"$f":"((Prices!E80*Prices!G80)*TOTAL!E74)","v":{"v":0,"d":"$0.00"}}]
[47,"Creeping Phlox - pink","1 Quart Perrennials",{"$f":"Prices!D81","v":{"v":6.8,"d":"6.80"}},{"$f":"SUM(Start:End!E73:E73)","v":0},{"v":0,"d":"$0.00"},null,{"$f":"((Prices!E81*Prices!G81)*TOTAL!E75)","v":{"v":0,"d":"$0.00"}}]
[48,"Hosta - variegated (shade plant)","3 Quart Perrennials",{"$f":"Prices!D82","v":{"v":10,"d":"10.00"}},{"$f":"SUM(Start:End!E74:E74)","v":0},{"v":0,"d":"$0.00"},null,{"$f":"((Prices!E82*Prices!G82)*TOTAL!E76)","v":{"v":0,"d":"$0.00"}}]
[49,"Lily of the Valley","1 Quart Perrennials",{"$f":"Prices!D83","v":{"v":6.8,"d":"6.80"}},{"$f":"SUM(Start:End!E75:E75)","v":0},{"v":0,"d":"$0.00"},null,{"$f":"((Prices!E83*Prices!G83)*TOTAL!E77)","v":{"v":0,"d":"$0.00"}}]
[50,"Karl Forester","1 Gal. Perennial Grass",{"$f":"Prices!D84","v":{"v":11,"d":"11.00"}},{"$f":"SUM(Start:End!E76:E76)","v":0},{"v":0,"d":"$0.00"},null,{"$f":"((Prices!E84*Prices!G84)*TOTAL!E78)","v":{"v":0,"d":"$0.00"}}]
[51,"Alyssum - white","Half Flat (24 plants)",{"$f":"Prices!D85","v":{"v":8.3,"d":"8.30"}},{"$f":"SUM(Start:End!E77:E77)","v":0},{"v":0,"d":"$0.00"},null,{"$f":"((Prices!E85*Prices!G85)*TOTAL!E79)","v":{"v":0,"d":"$0.00"}}]
[52,"Begonia - mixed (shade plant)","Half Flat (24 plants)",{"$f":"Prices!D86","v":{"v":8.3,"d":"8.30"}},{"$f":"SUM(Start:End!E78:E78)","v":0},{"v":0,"d":"$0.00"},null,{"$f":"((Prices!E86*Prices!G86)*TOTAL!E80)","v":{"v":0,"d":"$0.00"}}]
[53,"Coleus - mixed","Half Flat (24 plants)",{"$f":"Prices!D87","v":{"v":8.3,"d":"8.30"}},{"$f":"SUM(Start:End!E79:E79)","v":0},{"v":0,"d":"$0.00"},null,{"$f":"((Prices!E87*Prices!G87)*TOTAL!E81)","v":{"v":0,"d":"$0.00"}}]
[54,"Impatiens - mixed (shade plant)","Half Flat (24 plants)",{"$f":"Prices!D88","v":{"v":8.3,"d":"8.30"}},{"$f":"SUM(Start:End!E80:E80)","v":0},{"v":0,"d":"$0.00"},null,{"$f":"((Prices!E88*Prices!G88)*TOTAL!E82)","v":{"v":0,"d":"$0.00"}}]
[55,"Marigold - med mixed","Half Flat (24 plants)",{"$f":"Prices!D89","v":{"v":8.3,"d":"8.30"}},{"$f":"SUM(Start:End!E81:E81)","v":0},{"v":0,"d":"$0.00"},null,{"$f":"((Prices!E89*Prices!G89)*TOTAL!E83)","v":{"v":0,"d":"$0.00"}}]
[56,"Moss Roses","Half Flat (24 plants)",{"$f":"Prices!D90","v":{"v":8.3,"d":"8.30"}},{"$f":"SUM(Start:End!E82:E82)","v":0},{"v":0,"d":"$0.00"},null,{"$f":"((Prices!E90*Prices!G90)*TOTAL!E84)","v":{"v":0,"d":"$0.00"}}]
[57,"Pansy - mixed","Half Flat (24 plants)",{"$f":"Prices!D91","v":{"v":8.3,"d":"8.30"}},{"$f":"SUM(Start:End!E83:E83)","v":0},{"v":0,"d":"$0.00"},null,{"$f":"((Prices!E91*Prices!G91)*TOTAL!E85)","v":{"v":0,"d":"$0.00"}}]
[58,"Petunia - mixed","Half Flat (24 plants)",{"$f":"Prices!D92","v":{"v":8.3,"d":"8.30"}},{"$f":"SUM(Start:End!E84:E84)","v":0},{"v":0,"d":"$0.00"},null,{"$f":"((Prices!E92*Prices!G92)*TOTAL!E86)","v":{"v":0,"d":"$0.00"}}]
[59,"Snap Dragon - mixed","Half Flat (24 plants)",{"$f":"Prices!D93","v":{"v":8.3,"d":"8.30"}},{"$f":"SUM(Start:End!E85:E85)","v":0},{"v":0,"d":"$0.00"},null,{"$f":"((Prices!E93*Prices!G93)*TOTAL!E87)","v":{"v":0,"d":"$0.00"}}]
[60,"Vinca - pink","Half Flat (24 plants)",{"$f":"Prices!D94","v":{"v":8.3,"d":"8.30"}},{"$f":"SUM(Start:End!E86:E86)","v":0},{"v":0,"d":"$0.00"},null,{"$f":"((Prices!E94*Prices!G94)*TOTAL!E88)","v":{"v":0,"d":"$0.00"}}]
[61,"Vinca - purple","Half Flat (24 plants)",{"$f":"Prices!D95","v":{"v":8.3,"d":"8.30"}},{"$f":"SUM(Start:End!E87:E87)","v":0},{"v":0,"d":"$0.00"},null,{"$f":"((Prices!E95*Prices!G95)*TOTAL!E89)","v":{"v":0,"d":"$0.00"}}]
[62,"Zinnia - tall ","Half Flat (24 plants)",{"$f":"Prices!D96","v":{"v":8.3,"d":"8.30"}},{"$f":"SUM(Start:End!E88:E88)","v":0},{"v":0,"d":"$0.00"},null,{"$f":"((Prices!E96*Prices!G96)*TOTAL!E90)","v":{"v":0,"d":"$0.00"}}]
[63,"Alyssum - white","Whole Flat (48 plants)",{"$f":"Prices!D97","v":{"v":16.6,"d":"16.60"}},{"$f":"SUM(Start:End!E89:E89)","v":0},{"v":0,"d":"$0.00"},null,{"$f":"((Prices!E97*Prices!G97)*TOTAL!E91)","v":{"v":0,"d":"$0.00"}}]
[64,"Begonia - mixed (shade plant)","Whole Flat (48 plants)",{"$f":"Prices!D98","v":{"v":16.6,"d":"16.60"}},{"$f":"SUM(Start:End!E90:E90)","v":0},{"v":0,"d":"$0.00"},null,{"$f":"((Prices!E98*Prices!G98)*TOTAL!E92)","v":{"v":0,"d":"$0.00"}}]
[65,"Coleus - mixed","Whole Flat (48 plants)",{"$f":"Prices!D99","v":{"v":16.6,"d":"16.60"}},{"$f":"SUM(Start:End!E91:E91)","v":0},{"v":0,"d":"$0.00"},null,{"$f":"((Prices!E99*Prices!G99)*TOTAL!E93)","v":{"v":0,"d":"$0.00"}}]
[66,"Impatiens - mixed (shade plant)","Whole Flat (48 plants)",{"$f":"Prices!D100","v":{"v":16.6,"d":"16.60"}},{"$f":"SUM(Start:End!E92:E92)","v":0},{"v":0,"d":"$0.00"},null,{"$f":"((Prices!E100*Prices!G100)*TOTAL!E94)","v":{"v":0,"d":"$0.00"}}]
[67,"Marigold - med mixed","Whole Flat (48 plants)",{"$f":"Prices!D101","v":{"v":16.6,"d":"16.60"}},{"$f":"SUM(Start:End!E93:E93)","v":0},{"v":0,"d":"$0.00"},null,{"$f":"((Prices!E101*Prices!G101)*TOTAL!E95)","v":{"v":0,"d":"$0.00"}}]
[68,"Moss Roses","Whole Flat (48 plants)",{"$f":"Prices!D102","v":{"v":16.6,"d":"16.60"}},{"$f":"SUM(Start:End!E94:E94)","v":0},{"v":0,"d":"$0.00"},null,{"$f":"((Prices!E102*Prices!G102)*TOTAL!E96)","v":{"v":0,"d":"$0.00"}}]
[69,"Pansy - mixed","Whole Flat (48 plants)",{"$f":"Prices!D103","v":{"v":16.6,"d":"16.60"}},{"$f":"SUM(Start:End!E95:E95)","v":0},{"v":0,"d":"$0.00"},null,{"$f":"((Prices!E103*Prices!G103)*TOTAL!E97)","v":{"v":0,"d":"$0.00"}}]
[70,"Petunia - mixed","Whole Flat (48 plants)",{"$f":"Prices!D104","v":{"v":16.6,"d":"16.60"}},{"$f":"SUM(Start:End!E96:E96)","v":0},{"v":0,"d":"$0.00"},null,{"$f":"((Prices!E104*Prices!G104)*TOTAL!E98)","v":{"v":0,"d":"$0.00"}}]
[71,"Snap Dragon - mixed","Whole Flat (48 plants)",{"$f":"Prices!D99","v":{"v":16.6,"d":"16.60"}},{"$f":"SUM(Start:End!E97:E97)","v":0},{"v":0,"d":"$0.00"},null,{"$f":"((Prices!E105*Prices!G105)*TOTAL!E99)","v":{"v":0,"d":"$0.00"}}]
[72,"Vinca - pink","Whole Flat (48 plants)",{"$f":"Prices!D100","v":{"v":16.6,"d":"16.60"}},{"$f":"SUM(Start:End!E98:E98)","v":0},{"v":0,"d":"$0.00"},null,{"$f":"((Prices!E106*Prices!G106)*TOTAL!E100)","v":{"v":0,"d":"$0.00"}}]
[73,"Vinca - purple","Whole Flat (48 plants)",{"$f":"Prices!D101","v":{"v":16.6,"d":"16.60"}},{"$f":"SUM(Start:End!E99:E99)","v":0},{"v":0,"d":"$0.00"},null,{"$f":"((Prices!E107*Prices!G107)*TOTAL!E101)","v":{"v":0,"d":"$0.00"}}]
[74,"Zinnia - tall ","Whole Flat (48 plants)",{"$f":"Prices!D102","v":{"v":16.6,"d":"16.60"}},{"$f":"SUM(Start:End!E100:E100)","v":0},{"v":0,"d":"$0.00"},null,{"$f":"((Prices!E108*Prices!G108)*TOTAL!E102)","v":{"v":0,"d":"$0.00"}}]
[75,"Geranium, Max Frei","1 Gal. Perennials",{"$f":"Prices!D109","v":{"v":11,"d":"11.00"}},{"$f":"SUM(Start:End!E101:E101)","v":0},{"v":0,"d":"$0.00"},null,{"$f":"((Prices!E109*Prices!G109)*TOTAL!E103)","v":{"v":0,"d":"$0.00"}}]
[76,"Dianthus, Firewitch","1 Gal. Perennials",{"$f":"Prices!D110","v":{"v":11,"d":"11.00"}},{"$f":"SUM(Start:End!E102:E102)","v":0},{"v":0,"d":"$0.00"},null,{"$f":"((Prices!E110*Prices!G110)*TOTAL!E104)","v":{"v":0,"d":"$0.00"}}]
[77,"Shasta Daisy","1 Gal. Perennials",{"$f":"Prices!D111","v":{"v":11,"d":"11.00"}},{"$f":"SUM(Start:End!E103:E103)","v":0},{"v":0,"d":"$0.00"},null,{"$f":"((Prices!E111*Prices!G111)*TOTAL!E105)","v":{"v":0,"d":"$0.00"}}]
[null,"Stella De Ora Daylilly","1 Gal. Perennials",{"$f":"Prices!D112","v":{"v":11,"d":"11.00"}},{"$f":"SUM(Start:End!E104:E104)","v":0},{"v":0,"d":"$0.00"},null,{"$f":"((Prices!E112*Prices!G112)*TOTAL!E106)","v":{"v":0,"d":"$0.00"}}]
[null,"Pardon me Daylilly","1 Gal. Perennials",{"$f":"Prices!D113","v":{"v":11,"d":"11.00"}},{"$f":"SUM(Start:End!E105:E105)","v":0},{"v":0,"d":"$0.00"},null,{"$f":"((Prices!E113*Prices!G113)*TOTAL!E107)","v":{"v":0,"d":"$0.00"}}]
[null,"Black-eyed Susan","1 Gal. Perennials",{"$f":"Prices!D114","v":{"v":11,"d":"11.00"}},{"$f":"SUM(Start:End!E106:E106)","v":0},{"v":0,"d":"$0.00"},null,{"$f":"((Prices!E114*Prices!G114)*TOTAL!E108)","v":{"v":0,"d":"$0.00"}}]
[null,"Russian Sage","1 Gal. Perennials",{"$f":"Prices!D115","v":{"v":11,"d":"11.00"}},{"$f":"SUM(Start:End!E107:E107)","v":0},{"v":0,"d":"$0.00"},null,{"$f":"((Prices!E115*Prices!G115)*TOTAL!E109)","v":{"v":0,"d":"$0.00"}}]
[null,"Autumn Joy Sedum","1 Gal. Perennials",{"$f":"Prices!D116","v":{"v":11,"d":"11.00"}},{"$f":"SUM(Start:End!E108:E108)","v":0},{"v":0,"d":"$0.00"},null,{"$f":"((Prices!E116*Prices!G116)*TOTAL!E110)","v":{"v":0,"d":"$0.00"}}]
[null,"Coral Bell (Caramel)","1 Gal. Perennials",{"$f":"Prices!D117","v":{"v":14,"d":"14.00"}},{"$f":"SUM(Start:End!E109:E109)","v":0},{"v":0,"d":"$0.00"},null,{"$f":"((Prices!E117*Prices!G117)*TOTAL!E111)","v":{"v":0,"d":"$0.00"}}]
[null,"Fern Ostrich","1 Gal. Perennials",{"$f":"Prices!D118","v":{"v":14,"d":"14.00"}},{"$f":"SUM(Start:End!E110:E110)","v":0},{"v":0,"d":"$0.00"},null,{"$f":"((Prices!E118*Prices!G118)*TOTAL!E112)","v":{"v":0,"d":"$0.00"}}]
[null,"Japanese Painted Fern","1 Gal. Perennials",{"$f":"Prices!D119","v":{"v":14,"d":"14.00"}},{"$f":"SUM(Start:End!E111:E111)","v":0},{"v":0,"d":"$0.00"},null,{"$f":"((Prices!E119*Prices!G119)*TOTAL!E113)","v":{"v":0,"d":"$0.00"}}]
[null,"Hosta Patriot","1 Gal. Perennials",{"$f":"Prices!D120","v":{"v":11,"d":"11.00"}},{"$f":"SUM(Start:End!E112:E112)","v":0},{"v":0,"d":"$0.00"},null,{"$f":"((Prices!E120*Prices!G120)*TOTAL!E114)","v":{"v":0,"d":"$0.00"}}]
[null,"Hosta Elegans","1 Gal. Perennials",{"$f":"Prices!D121","v":{"v":11,"d":"11.00"}},{"$f":"SUM(Start:End!E113:E113)","v":0},{"v":0,"d":"$0.00"},null,{"$f":"((Prices!E121*Prices!G121)*TOTAL!E115)","v":{"v":0,"d":"$0.00"}}]
[null,"Hosta Guacamole","1 Gal. Perennials",{"$f":"Prices!D122","v":{"v":14,"d":"14.00"}},{"$f":"SUM(Start:End!E114:E114)","v":0},{"$f":"D116*E116","v":{"v":0,"d":"$0.00"}},null,{"$f":"((Prices!E122*Prices!G122)*TOTAL!E116)","v":{"v":0,"d":"$0.00"}}]
[]
[{"$nulls":4},{"$f":"SUM(E63:E116)","v":0},{"$f":"SUM(F63:F116)","v":{"v":0,"d":"$0.00"}},null,{"$f":"SUM(H63:H116)","v":{"v":0,"d":"$0.00"}}]
[{"$nulls":4},{"$f":"E49","v":0},{"$f":"F49","v":{"v":0,"d":"$0.00"}},null,{"$f":"H49","v":{"v":0,"d":"$0.00"}}]
[{"$nulls":4},{"$f":"E118+E119","v":0},{"$f":"F118+F119","v":{"v":0,"d":"$0.00"}},null,{"$f":"SUM(H118:H119)","v":{"v":0,"d":"$0.00"}}]